Workbook
Name сумм_аммортиз: Калькуляция!$E$74:$E$86
Name сумм_аммортиз: #REF!

Sheet Правила и справки
B1: Правила заполнения
A2: 1 | B2: Настоящая форма содержит вкладки - "Статистическая ЗП", "Калькуляция", "Расчет ФОТ", "Тарификатор" и «Приложение к договору» . Листы "Калькуляция" и "Расчет ФОТ" являются обязательными для заполнения в полном объеме.
A3: 2 | B3: Заполнению (редактированию) подлежат ячейки, отмеченные серым маркером. Остальные ячейки защищены от редактирования (в них не требуется вносить изменения и/или значения параметров в них рассчитываются автоматически).
A4: 3 | B4: Штатное расписание во вкладке "Расчет ФОТ" подлежит заполнению в зависимости от обслуживаемого объекта и необходимого графика работы
A5: 4 | B5: Сроки амортизации основных средств определяются каждым участником самостоятельно в соответствии с действующим законодательством РФ.
A6: 5 | B6: В настоящей форме Калькуляции все затраты необходимо указывать без учета НДС.
A7: 6 | B7: Компании, работающие на УСН (без НДС), считают затраты без учета налога на добавленную стоимость. Далее необходимо прибавлять сумму расчетного налога согласно внутренней системе упрощенного налогообложения.
A8: 7 | B8: В разделе «Амортизация ОС» не допускается указывать в основные средства с нулевой остаточной стоимостью. При формировании Калькуляции необходимо в обязательном порядке учитывать затраты на амортизацию каждого основного средства (исходя из ежемесячной амортизации нового основного средства).
A9: 8 | B9: В разделе «Инвентарь» не допускается указывать инвентарь б/у и/или инвентарь с нулевой стоимостью. В Калькуляцию каждого проекта необходимо закладывать приобретение нового инвентаря по действующим на момент расчета ценам поставщиков.
A10: 9 | B10: В разделе «Спецодежда» указанное количество комплектов спецодежды должно соответствовать планируемому количеству персонала и учитывать сезонность (зима/лето) и условия труда. Для контрактов продолжительностью более 1(одного) года необходимо учитывать ежегодное приобретение комплектов «летней» спецодежды для всех сотрудников, комплекты «зимней» спецодежды подлежат обновлению не реже, чем 1 раз в 2(два) года.
A11: 10 | B11: В разделе «Расходы на СОУТ (новый объект), по охране труда (ОТ) и промышленной безопасности (ПБ)» в обязательном порядке должны быть учтены соответствующие затраты на выполнение нормативов и требований в области охраны труда, пожарной и промышленной безопасности (в т.ч. медосмотры, медкнижки, освидетельствование рабочих мест, аттестации по электро- и пожарной безопасности и т.д.) по действующим на момент расчета расценкам поставщиков указанных услуг.
A12: 11 | B12: В разделе «Эксплуатация и ремонт оборудования» указываются затраты на ремонт и обслуживание основных средств, а также затраты на приобретение расходных материалов (щетки, скребки, резинки и др.). Данные затраты должны ежегодно составлять не менее 5% от стоимости основного средства.
B15: Справочная информация
A16: 1 | B16: Согласно производственному календарю в 2026 году 1972 максимально возможных рабочих часов (при 40- часовой рабочей неделе) по одному трудовому договору (без переработок), т.е. 164,3 часа среднемесячно. ТК РФ допускается работа по совместительству с продолжительностью рабочего времени, не превышающей половины месячной нормы рабочего времени, в 2026 году это 1972/2=986 часов. Таким образом, расчет максимально возможного количества рабочих часов в год по основному договору и договору совместительства выглядит следующим образом: 1972+0,5*1 972=2958 /12 месяцев=246,5 часов (среднемесячно). Согласно ТК РФ максимально возможное количество человеко-часов (3 078/ в год) можно установить графиком работы персоналу 6/1-10 часов, это основной договор плюс договор совместительства. В случае установки графика работы, при котором количество человеко- часов по каждой специальности и каждому сотруднику превышает 3 078 часов в год, ячейка с итоговым количеством человеко- часов (столбец J вкладки "Расчет ФОТ") окрашивается в красный цвет, если не превышает- в зеленый.
A17: 2 | B17: Заработная плата за 1 час устанавливается в размере не менее определенного по формуле (далее – Минимальная расчетная заработная плата за 1 час): 80% от среднего уровня заработной платы по отрасли в регионе оказания услуг, определенной в соответствии с данными, опубликованными Федеральной службой государственной статистики на официальном сайте Единой межведомственной информационно-статистической системы (далее – ЕМИСС)/246 (далее – Средний уровень заработной платы за час), где 246 – это максимально возможное количество рабочих часов среднемесячно по трудовому договору и договору совместительства на 1 человека в соответствии с ТК РФ. При этом максимальное количество отработанных сотрудником часов среднемесячно не должно превышать 246 рабочих часов Для целей расчета среднего уровня заработной платы по отрасли принимаются данные о среднемесячной начисленной заработной плате работников организаций, соответствующих отраслевому виду экономической деятельности по ОКВЭД-2 (группа 81.2 «Деятельность по чистке и уборке»), за последний период (год,квартал), опубликованный на официальном сайте ЕМИСС, на момент составления расчета. В случае, если определенная таким образом минимальная расчетная заработная плата за 1 час работы окажется ниже уровня заработной платы, рассчитанного по формуле: МРОТ (минимальный размер заработной платы, установленной в субъекте РФ)/164 рабочих часа (далее Минимальный размер заработной платы за час), где 164 – это количество рабочих часов в месяц для 40 часовой рабочей недели, согласно производственному календарю, Минимальная расчетная заработная плата за 1 час принимается Исполнителем равной Минимальному размеру заработной платы за час (МРОТ/164). Процент отклонения отображается в столбце АА "Расчет ФОТ", подсвечивается зеленым в случае соответствия, красным в случае несоответствия требуемому критерию.
A18: 3 | B18: Расчет заработной платы в час во вкладке "Статистическая ЗП" производится из максимально возможных согласно ТК РФ 246 часов среднемесячно при работе сотрудника по основному договору и договору совместительства, формула расчета представлена в п.1
A19: 4 | B19: Количество дней отпуска рассчитывается исходя из 28 календарных дней. Дополнительно учитывается отпуск, установленный законодательством для районов Крайнего Севера и приравненных к ним (8,16 или 24 календарных дня), а также отпуск, который может быть установлен по результатам специальной оценки условий труда (СОУТ).
A20: 5 | B20: Оплата праздничных дней производится в двойном размере.
A21: 6 | B21: Размер оплачиваемого работодателем больничного листа в расчете учитывается для каждого сотрудника в размере не менее стоимости 3 (трёх) рабочих дней ежегодно.
A22: 7 | B22: Размер страховых взносов для граждан РФ и иностранных граждан составляет 30%, без учета страховых взносов от несчастных случаев, которые закладываются согласно таблице производственных рисков (от 0,2 до 8,5%). Применительно к клинингу страховые взносы в ФСС по несчастным случаям в среднем равны 0,5%.
A23: 8 | B23: Стоимость услуг в человеко-часах отображается во вкладке "Тарификатор", и формируется из расходов на ФОТ и прочих статей затрат на услуги в соответствии с их наименованием в ячейках В30:45 во вкладке "Расчет ФОТ"
A24: 9 | B24: Вкладка "Приложение к договору", в которой указываются расчетная стоимость услуги с разбивкой на статьи затрат и расчетная стоимость трудового ресурса, заполняется автоматически при заполнении вкладок "Калькуляция" и "Расчет ФОТ".
C26: =2958 -> 2958
C27: =C26+120 -> 3078

Sheet Статистическая ЗП
B1: Данные ЕМИСС за январь - май 2026 г. по коду ОКВЭД2 81.2 Услуги по чистке и уборке* | L1: МРОТ (на 01.08.2026)* | R1: Значение для сравнения в час, включая страховые взносы, отпускные и больничные | W1: Значение для сравнения (справочно), включая отпускные и больничные (без страховых взносов)
B2: Код субъекта РФ | C2: Регион РФ | D2: Среднемесячно | E2: ЕМИСС минус 20% | G2: ЕМИСС среднемесячно минус 20% в час, включая страховые взносы | L2: в месяц | M2: в час | N2: в час, включая отпускные, больничные, страховые взносы | O2: в месяц, включая отпускные и больничные (без страховых взносов) | P2: в час, включая отпускные и больничные (без страховых взносов) | R2: не МСП | S2: МСП | W2: в месяц | X2: в час | AC2: 0.05 | AD2: =AC2/AE2 -> 0.052631579 | AE2: =100%-AC2 -> 0.95
A3: № | AC3: 0.07 | AD3: =AC3/AE3 -> 0.075268817 | AE3: =100%-AC3 -> 0.93
E4: среднемесячно | F4: в час | G4: не МСП | H4: МСП | AC4: 0.22 | AD4: =AC4/AE4 -> 0.28205128 | AE4: =100%-AC4 -> 0.78
A5: 1 | B5: 01 | C5: Республика Адыгея | D5: 48625.1 | E5: =D5*0.8 -> 38900.08 | F5: =E5/246 -> 158.13041 | G5: =F5*1.305 -> 206.36018 | H5: =IF(F5>$M$5,$M$5*1.305+(F5-$M$5)*1.155,F5*1.305) -> 206.36018 | K5: =CONCATENATE(B5," ",C5) -> 01 Республика Адыгея | L5: 27093 | M5: =L5/164 -> 165.20122 | N5: =((M5/29.3*28*100%/12)+M5)*1.305+M5*164*24/730*3/12/164 -> 234.11393 | O5: =($L5/29.3*28/12)+$L5+$L5*24/730*3/12 -> 29473.259 | P5: =($M5/29.3*28/12)+$M5+$M5*24/730*3/12 -> 179.71499 | R5: =IF(N5>G5,N5,G5) -> 234.11393 | S5: =IF(N5>H5,N5,H5) -> 234.11393 | U5: Бюджет/Здравоохранение | V5: МСП | W5: =IF(O5>E5,O5,E5) -> 38900.08 | X5: =IF(P5>F5,P5,F5) -> 179.71499
A6: 2 | B6: 02 | C6: Республика Башкортостан | D6: 47109.3 | E6: =D6*0.8 -> 37687.44 | F6: =E6/246 -> 153.20098 | G6: =F6*1.305 -> 199.92727 | H6: =IF(F6>$M$5,$M$5*1.305+(F6-$M$5)*1.155,F6*1.305) -> 199.92727 | K6: =CONCATENATE(B6," ",C6) -> 02 Республика Башкортостан | L6: 28697 | M6: =L6/164 -> 174.98171 | N6: =((M6/29.3*28*100%/12)+M6)*1.305+M6*164*24/730*3/12/164 -> 247.97429 | O6: =($L6/29.3*28/12)+$L6+$L6*24/730*3/12 -> 31218.179 | P6: =($M6/29.3*28/12)+$M6+$M6*24/730*3/12 -> 190.35475 | R6: =IF(N6>G6,N6,G6) -> 247.97429 | S6: =IF(N6>H6,N6,H6) -> 247.97429 | U6: Бюджет/Образование | V6: не МСП | W6: =IF(O6>E6,O6,E6) -> 37687.44 | X6: =IF(P6>F6,P6,F6) -> 190.35475
A7: 3 | B7: 03 | C7: Республика Бурятия | D7: 65418.6 | E7: =D7*0.8 -> 52334.88 | F7: =E7/246 -> 212.74341 | G7: =F7*1.305 -> 277.63016 | H7: =IF(F7>$M$5,$M$5*1.305+(F7-$M$5)*1.155,F7*1.305) -> 270.49883 | K7: =CONCATENATE(B7," ",C7) -> 03 Республика Бурятия | L7: 27093 | M7: =L7/164 -> 165.20122 | N7: =((M7/29.3*28*100%/12)+M7)*1.305+M7*164*24/730*3/12/164 -> 234.11393 | O7: =($L7/29.3*28/12)+$L7+$L7*24/730*3/12 -> 29473.259 | P7: =($M7/29.3*28/12)+$M7+$M7*24/730*3/12 -> 179.71499 | R7: =IF(N7>G7,N7,G7) -> 277.63016 | S7: =IF(N7>H7,N7,H7) -> 270.49883 | U7: Бюджет/ФОИВ | W7: =IF(O7>E7,O7,E7) -> 52334.88 | X7: =IF(P7>F7,P7,F7) -> 212.74341
A8: 4 | B8: 04 | C8: Республика Алтай | D8: 45606.6 | E8: =D8*0.8 -> 36485.28 | F8: =E8/246 -> 148.31415 | G8: =F8*1.305 -> 193.54996 | H8: =IF(F8>$M$5,$M$5*1.305+(F8-$M$5)*1.155,F8*1.305) -> 193.54996 | K8: =CONCATENATE(B8," ",C8) -> 04 Республика Алтай | L8: 27093 | M8: =L8/164 -> 165.20122 | N8: =((M8/29.3*28*100%/12)+M8)*1.305+M8*164*24/730*3/12/164 -> 234.11393 | O8: =($L8/29.3*28/12)+$L8+$L8*24/730*3/12 -> 29473.259 | P8: =($M8/29.3*28/12)+$M8+$M8*24/730*3/12 -> 179.71499 | R8: =IF(N8>G8,N8,G8) -> 234.11393 | S8: =IF(N8>H8,N8,H8) -> 234.11393 | U8: Бюджет/Силовые структуры | W8: =IF(O8>E8,O8,E8) -> 36485.28 | X8: =IF(P8>F8,P8,F8) -> 179.71499
A9: 5 | B9: 05 | C9: Республика Дагестан | D9: 41898.3 | E9: =D9*0.8 -> 33518.64 | F9: =E9/246 -> 136.25463 | G9: =F9*1.305 -> 177.8123 | H9: =IF(F9>$M$5,$M$5*1.305+(F9-$M$5)*1.155,F9*1.305) -> 177.8123 | K9: =CONCATENATE(B9," ",C9) -> 05 Республика Дагестан | L9: 27093 | M9: =L9/164 -> 165.20122 | N9: =((M9/29.3*28*100%/12)+M9)*1.305+M9*164*24/730*3/12/164 -> 234.11393 | O9: =($L9/29.3*28/12)+$L9+$L9*24/730*3/12 -> 29473.259 | P9: =($M9/29.3*28/12)+$M9+$M9*24/730*3/12 -> 179.71499 | R9: =IF(N9>G9,N9,G9) -> 234.11393 | S9: =IF(N9>H9,N9,H9) -> 234.11393 | U9: Бюджет/ЖД и Метрополитены | W9: =IF(O9>E9,O9,E9) -> 33518.64 | X9: =IF(P9>F9,P9,F9) -> 179.71499
A10: 6 | B10: 06 | C10: Республика Ингушетия | D10: 25131.9 | E10: =D10*0.8 -> 20105.52 | F10: =E10/246 -> 81.729756 | G10: =F10*1.305 -> 106.65733 | H10: =IF(F10>$M$5,$M$5*1.305+(F10-$M$5)*1.155,F10*1.305) -> 106.65733 | K10: =CONCATENATE(B10," ",C10) -> 06 Республика Ингушетия | L10: 27093 | M10: =L10/164 -> 165.20122 | N10: =((M10/29.3*28*100%/12)+M10)*1.305+M10*164*24/730*3/12/164 -> 234.11393 | O10: =($L10/29.3*28/12)+$L10+$L10*24/730*3/12 -> 29473.259 | P10: =($M10/29.3*28/12)+$M10+$M10*24/730*3/12 -> 179.71499 | R10: =IF(N10>G10,N10,G10) -> 234.11393 | S10: =IF(N10>H10,N10,H10) -> 234.11393 | U10: Бюджет/Прочие | W10: =IF(O10>E10,O10,E10) -> 29473.259 | X10: =IF(P10>F10,P10,F10) -> 179.71499
A11: 7 | B11: 07 | C11: Кабардино-Балкарская Республика | D11: 54234.4 | E11: =D11*0.8 -> 43387.52 | F11: =E11/246 -> 176.37203 | G11: =F11*1.305 -> 230.1655 | H11: =IF(F11>$M$5,$M$5*1.305+(F11-$M$5)*1.155,F11*1.305) -> 228.48988 | K11: =CONCATENATE(B11," ",C11) -> 07 Кабардино-Балкарская Республика | L11: 27093 | M11: =L11/164 -> 165.20122 | N11: =((M11/29.3*28*100%/12)+M11)*1.305+M11*164*24/730*3/12/164 -> 234.11393 | O11: =($L11/29.3*28/12)+$L11+$L11*24/730*3/12 -> 29473.259 | P11: =($M11/29.3*28/12)+$M11+$M11*24/730*3/12 -> 179.71499 | R11: =IF(N11>G11,N11,G11) -> 234.11393 | S11: =IF(N11>H11,N11,H11) -> 234.11393 | U11: Индустрия/Нефтегазовая промышленность | W11: =IF(O11>E11,O11,E11) -> 43387.52 | X11: =IF(P11>F11,P11,F11) -> 179.71499
A12: 8 | B12: 08 | C12: Республика Калмыкия | D12: 49582.9 | E12: =D12*0.8 -> 39666.32 | F12: =E12/246 -> 161.2452 | G12: =F12*1.305 -> 210.42499 | H12: =IF(F12>$M$5,$M$5*1.305+(F12-$M$5)*1.155,F12*1.305) -> 210.42499 | K12: =CONCATENATE(B12," ",C12) -> 08 Республика Калмыкия | L12: 27093 | M12: =L12/164 -> 165.20122 | N12: =((M12/29.3*28*100%/12)+M12)*1.305+M12*164*24/730*3/12/164 -> 234.11393 | O12: =($L12/29.3*28/12)+$L12+$L12*24/730*3/12 -> 29473.259 | P12: =($M12/29.3*28/12)+$M12+$M12*24/730*3/12 -> 179.71499 | R12: =IF(N12>G12,N12,G12) -> 234.11393 | S12: =IF(N12>H12,N12,H12) -> 234.11393 | U12: Индустрия/Машиностроение | W12: =IF(O12>E12,O12,E12) -> 39666.32 | X12: =IF(P12>F12,P12,F12) -> 179.71499
A13: 9 | B13: 09 | C13: Карачаево-Черкесская Республика | D13: 39505.1 | E13: =D13*0.8 -> 31604.08 | F13: =E13/246 -> 128.47187 | G13: =F13*1.305 -> 167.65579 | H13: =IF(F13>$M$5,$M$5*1.305+(F13-$M$5)*1.155,F13*1.305) -> 167.65579 | K13: =CONCATENATE(B13," ",C13) -> 09 Карачаево-Черкесская Республика | L13: 27093 | M13: =L13/164 -> 165.20122 | N13: =((M13/29.3*28*100%/12)+M13)*1.305+M13*164*24/730*3/12/164 -> 234.11393 | O13: =($L13/29.3*28/12)+$L13+$L13*24/730*3/12 -> 29473.259 | P13: =($M13/29.3*28/12)+$M13+$M13*24/730*3/12 -> 179.71499 | R13: =IF(N13>G13,N13,G13) -> 234.11393 | S13: =IF(N13>H13,N13,H13) -> 234.11393 | U13: Индустрия/Пищевая | W13: =IF(O13>E13,O13,E13) -> 31604.08 | X13: =IF(P13>F13,P13,F13) -> 179.71499
A14: 10 | B14: 10 | C14: Республика Карелия | D14: 91811.1 | E14: =D14*0.8 -> 73448.88 | F14: =E14/246 -> 298.57268 | G14: =F14*1.305 -> 389.63735 | H14: =IF(F14>$M$5,$M$5*1.305+(F14-$M$5)*1.155,F14*1.305) -> 369.63163 | K14: =CONCATENATE(B14," ",C14) -> 10 Республика Карелия | L14: 27093 | M14: =L14/164 -> 165.20122 | N14: =((M14/29.3*28*100%/12)+M14)*1.305+M14*164*24/730*3/12/164 -> 234.11393 | O14: =($L14/29.3*28/12)+$L14+$L14*24/730*3/12 -> 29473.259 | P14: =($M14/29.3*28/12)+$M14+$M14*24/730*3/12 -> 179.71499 | R14: =IF(N14>G14,N14,G14) -> 389.63735 | S14: =IF(N14>H14,N14,H14) -> 369.63163 | U14: Индустрия/Фармацевтическая | W14: =IF(O14>E14,O14,E14) -> 73448.88 | X14: =IF(P14>F14,P14,F14) -> 298.57268
A15: 11 | B15: 11 | C15: Республика Коми | D15: 58984.1 | E15: =D15*0.8 -> 47187.28 | F15: =E15/246 -> 191.81821 | G15: =F15*1.305 -> 250.32277 | H15: =IF(F15>$M$5,$M$5*1.305+(F15-$M$5)*1.155,F15*1.305) -> 246.33022 | K15: =CONCATENATE(B15," ",C15) -> 11 Республика Коми | L15: 27093 | M15: =L15/164 -> 165.20122 | N15: =((M15/29.3*28*100%/12)+M15)*1.305+M15*164*24/730*3/12/164 -> 234.11393 | O15: =($L15/29.3*28/12)+$L15+$L15*24/730*3/12 -> 29473.259 | P15: =($M15/29.3*28/12)+$M15+$M15*24/730*3/12 -> 179.71499 | R15: =IF(N15>G15,N15,G15) -> 250.32277 | S15: =IF(N15>H15,N15,H15) -> 246.33022 | U15: Индустрия/Уголь, руда, металл | W15: =IF(O15>E15,O15,E15) -> 47187.28 | X15: =IF(P15>F15,P15,F15) -> 191.81821
A16: 12 | B16: 12 | C16: Республика Марий Эл | D16: 64124.1 | E16: =D16*0.8 -> 51299.28 | F16: =E16/246 -> 208.53366 | G16: =F16*1.305 -> 272.13642 | H16: =IF(F16>$M$5,$M$5*1.305+(F16-$M$5)*1.155,F16*1.305) -> 265.63656 | K16: =CONCATENATE(B16," ",C16) -> 12 Республика Марий Эл | L16: 27093 | M16: =L16/164 -> 165.20122 | N16: =((M16/29.3*28*100%/12)+M16)*1.305+M16*164*24/730*3/12/164 -> 234.11393 | O16: =($L16/29.3*28/12)+$L16+$L16*24/730*3/12 -> 29473.259 | P16: =($M16/29.3*28/12)+$M16+$M16*24/730*3/12 -> 179.71499 | R16: =IF(N16>G16,N16,G16) -> 272.13642 | S16: =IF(N16>H16,N16,H16) -> 265.63656 | U16: Индустрия/Энергетика | W16: =IF(O16>E16,O16,E16) -> 51299.28 | X16: =IF(P16>F16,P16,F16) -> 208.53366
A17: 13 | B17: 13 | C17: Республика Мордовия | D17: 62089.6 | E17: =D17*0.8 -> 49671.68 | F17: =E17/246 -> 201.9174 | G17: =F17*1.305 -> 263.5022 | H17: =IF(F17>$M$5,$M$5*1.305+(F17-$M$5)*1.155,F17*1.305) -> 257.99478 | K17: =CONCATENATE(B17," ",C17) -> 13 Республика Мордовия | L17: 27093 | M17: =L17/164 -> 165.20122 | N17: =((M17/29.3*28*100%/12)+M17)*1.305+M17*164*24/730*3/12/164 -> 234.11393 | O17: =($L17/29.3*28/12)+$L17+$L17*24/730*3/12 -> 29473.259 | P17: =($M17/29.3*28/12)+$M17+$M17*24/730*3/12 -> 179.71499 | R17: =IF(N17>G17,N17,G17) -> 263.5022 | S17: =IF(N17>H17,N17,H17) -> 257.99478 | U17: Индустрия/ Прочая | W17: =IF(O17>E17,O17,E17) -> 49671.68 | X17: =IF(P17>F17,P17,F17) -> 201.9174
A18: 14 | B18: 14 | C18: Республика Саха (Якутия) | D18: 67049.4 | E18: =D18*0.8 -> 53639.52 | F18: =E18/246 -> 218.04683 | G18: =F18*1.305 -> 284.55111 | H18: =IF(F18>$M$5,$M$5*1.305+(F18-$M$5)*1.155,F18*1.305) -> 276.62427 | K18: =CONCATENATE(B18," ",C18) -> 14 Республика Саха (Якутия) | L18: 27093 | M18: =L18/164 -> 165.20122 | N18: =((M18/29.3*28*100%/12)+M18)*1.305+M18*164*24/730*3/12/164 -> 234.11393 | O18: =($L18/29.3*28/12)+$L18+$L18*24/730*3/12 -> 29473.259 | P18: =($M18/29.3*28/12)+$M18+$M18*24/730*3/12 -> 179.71499 | R18: =IF(N18>G18,N18,G18) -> 284.55111 | S18: =IF(N18>H18,N18,H18) -> 276.62427 | U18: Недвижимость/Аэропорты, стадионы и пр. | W18: =IF(O18>E18,O18,E18) -> 53639.52 | X18: =IF(P18>F18,P18,F18) -> 218.04683
A19: 15 | B19: 15 | C19: Республика Северная Осетия-Алания | D19: 33413.5 | E19: =D19*0.8 -> 26730.8 | F19: =E19/246 -> 108.66179 | G19: =F19*1.305 -> 141.80363 | H19: =IF(F19>$M$5,$M$5*1.305+(F19-$M$5)*1.155,F19*1.305) -> 141.80363 | K19: =CONCATENATE(B19," ",C19) -> 15 Республика Северная Осетия-Алания | L19: 27093 | M19: =L19/164 -> 165.20122 | N19: =((M19/29.3*28*100%/12)+M19)*1.305+M19*164*24/730*3/12/164 -> 234.11393 | O19: =($L19/29.3*28/12)+$L19+$L19*24/730*3/12 -> 29473.259 | P19: =($M19/29.3*28/12)+$M19+$M19*24/730*3/12 -> 179.71499 | R19: =IF(N19>G19,N19,G19) -> 234.11393 | S19: =IF(N19>H19,N19,H19) -> 234.11393 | U19: Недвижимость/Жилая | W19: =IF(O19>E19,O19,E19) -> 29473.259 | X19: =IF(P19>F19,P19,F19) -> 179.71499
A20: 16 | B20: 16 | C20: Республика Татарстан (Татарстан) | D20: 47594.8 | E20: =D20*0.8 -> 38075.84 | F20: =E20/246 -> 154.77984 | G20: =F20*1.305 -> 201.98769 | H20: =IF(F20>$M$5,$M$5*1.305+(F20-$M$5)*1.155,F20*1.305) -> 201.98769 | K20: =CONCATENATE(B20," ",C20) -> 16 Республика Татарстан (Татарстан) | L20: 28160 | M20: =L20/164 -> 171.70732 | N20: =((M20/29.3*28*100%/12)+M20)*1.305+M20*164*24/730*3/12/164 -> 243.33401 | O20: =($L20/29.3*28/12)+$L20+$L20*24/730*3/12 -> 30634 | P20: =($M20/29.3*28/12)+$M20+$M20*24/730*3/12 -> 186.79269 | R20: =IF(N20>G20,N20,G20) -> 243.33401 | S20: =IF(N20>H20,N20,H20) -> 243.33401 | U20: Недвижимость/Логистическая | W20: =IF(O20>E20,O20,E20) -> 38075.84 | X20: =IF(P20>F20,P20,F20) -> 186.79269
A21: 17 | B21: 17 | C21: Республика Тыва | D21: 66061.6 | E21: =D21*0.8 -> 52849.28 | F21: =E21/246 -> 214.83447 | G21: =F21*1.305 -> 280.35899 | H21: =IF(F21>$M$5,$M$5*1.305+(F21-$M$5)*1.155,F21*1.305) -> 272.914 | K21: =CONCATENATE(B21," ",C21) -> 17 Республика Тыва | L21: 27093 | M21: =L21/164 -> 165.20122 | N21: =((M21/29.3*28*100%/12)+M21)*1.305+M21*164*24/730*3/12/164 -> 234.11393 | O21: =($L21/29.3*28/12)+$L21+$L21*24/730*3/12 -> 29473.259 | P21: =($M21/29.3*28/12)+$M21+$M21*24/730*3/12 -> 179.71499 | R21: =IF(N21>G21,N21,G21) -> 280.35899 | S21: =IF(N21>H21,N21,H21) -> 272.914 | U21: Недвижимость/Офисная | W21: =IF(O21>E21,O21,E21) -> 52849.28 | X21: =IF(P21>F21,P21,F21) -> 214.83447
A22: 18 | B22: 18 | C22: Удмуртская Республика | D22: 52942.7 | E22: =D22*0.8 -> 42354.16 | F22: =E22/246 -> 172.17138 | G22: =F22*1.305 -> 224.68365 | H22: =IF(F22>$M$5,$M$5*1.305+(F22-$M$5)*1.155,F22*1.305) -> 223.63813 | K22: =CONCATENATE(B22," ",C22) -> 18 Удмуртская Республика | L22: 31157 | M22: =L22/164 -> 189.98171 | N22: =((M22/29.3*28*100%/12)+M22)*1.305+M22*164*24/730*3/12/164 -> 269.23145 | O22: =($L22/29.3*28/12)+$L22+$L22*24/730*3/12 -> 33894.302 | P22: =($M22/29.3*28/12)+$M22+$M22*24/730*3/12 -> 206.67257 | R22: =IF(N22>G22,N22,G22) -> 269.23145 | S22: =IF(N22>H22,N22,H22) -> 269.23145 | U22: Недвижимость/Торгово-развлекательная | W22: =IF(O22>E22,O22,E22) -> 42354.16 | X22: =IF(P22>F22,P22,F22) -> 206.67257
A23: 19 | B23: 19 | C23: Республика Хакасия | D23: 60759 | E23: =D23*0.8 -> 48607.2 | F23: =E23/246 -> 197.59024 | G23: =F23*1.305 -> 257.85527 | H23: =IF(F23>$M$5,$M$5*1.305+(F23-$M$5)*1.155,F23*1.305) -> 252.99691 | K23: =CONCATENATE(B23," ",C23) -> 19 Республика Хакасия | L23: 27093 | M23: =L23/164 -> 165.20122 | N23: =((M23/29.3*28*100%/12)+M23)*1.305+M23*164*24/730*3/12/164 -> 234.11393 | O23: =($L23/29.3*28/12)+$L23+$L23*24/730*3/12 -> 29473.259 | P23: =($M23/29.3*28/12)+$M23+$M23*24/730*3/12 -> 179.71499 | R23: =IF(N23>G23,N23,G23) -> 257.85527 | S23: =IF(N23>H23,N23,H23) -> 252.99691 | U23: Недвижимость/Прочая | W23: =IF(O23>E23,O23,E23) -> 48607.2 | X23: =IF(P23>F23,P23,F23) -> 197.59024
A24: 20 | B24: 20 | C24: Чеченская Республика | D24: 47143.1 | E24: =D24*0.8 -> 37714.48 | F24: =E24/246 -> 153.31089 | G24: =F24*1.305 -> 200.07072 | H24: =IF(F24>$M$5,$M$5*1.305+(F24-$M$5)*1.155,F24*1.305) -> 200.07072 | K24: =CONCATENATE(B24," ",C24) -> 20 Чеченская Республика | L24: 27093 | M24: =L24/164 -> 165.20122 | N24: =((M24/29.3*28*100%/12)+M24)*1.305+M24*164*24/730*3/12/164 -> 234.11393 | O24: =($L24/29.3*28/12)+$L24+$L24*24/730*3/12 -> 29473.259 | P24: =($M24/29.3*28/12)+$M24+$M24*24/730*3/12 -> 179.71499 | R24: =IF(N24>G24,N24,G24) -> 234.11393 | S24: =IF(N24>H24,N24,H24) -> 234.11393 | U24: Cети/Nonfood | W24: =IF(O24>E24,O24,E24) -> 37714.48 | X24: =IF(P24>F24,P24,F24) -> 179.71499
A25: 21 | B25: 21 | C25: Чувашская Республика - Чувашия | D25: 49363.6 | E25: =D25*0.8 -> 39490.88 | F25: =E25/246 -> 160.53203 | G25: =F25*1.305 -> 209.4943 | H25: =IF(F25>$M$5,$M$5*1.305+(F25-$M$5)*1.155,F25*1.305) -> 209.4943 | K25: =CONCATENATE(B25," ",C25) -> 21 Чувашская Республика - Чувашия | L25: 27093 | M25: =L25/164 -> 165.20122 | N25: =((M25/29.3*28*100%/12)+M25)*1.305+M25*164*24/730*3/12/164 -> 234.11393 | O25: =($L25/29.3*28/12)+$L25+$L25*24/730*3/12 -> 29473.259 | P25: =($M25/29.3*28/12)+$M25+$M25*24/730*3/12 -> 179.71499 | R25: =IF(N25>G25,N25,G25) -> 234.11393 | S25: =IF(N25>H25,N25,H25) -> 234.11393 | U25: Сети/Магазины у дома | W25: =IF(O25>E25,O25,E25) -> 39490.88 | X25: =IF(P25>F25,P25,F25) -> 179.71499
A26: 22 | B26: 22 | C26: Алтайский край | D26: 41467.5 | E26: =D26*0.8 -> 33174 | F26: =E26/246 -> 134.85366 | G26: =F26*1.305 -> 175.98402 | H26: =IF(F26>$M$5,$M$5*1.305+(F26-$M$5)*1.155,F26*1.305) -> 175.98402 | K26: =CONCATENATE(B26," ",C26) -> 22 Алтайский край | L26: 28475 | M26: =L26/164 -> 173.62805 | N26: =((M26/29.3*28*100%/12)+M26)*1.305+M26*164*24/730*3/12/164 -> 246.05596 | O26: =($L26/29.3*28/12)+$L26+$L26*24/730*3/12 -> 30976.675 | P26: =($M26/29.3*28/12)+$M26+$M26*24/730*3/12 -> 188.88216 | R26: =IF(N26>G26,N26,G26) -> 246.05596 | S26: =IF(N26>H26,N26,H26) -> 246.05596 | U26: Сети/Супермаркеты | W26: =IF(O26>E26,O26,E26) -> 33174 | X26: =IF(P26>F26,P26,F26) -> 188.88216
A27: 23 | B27: 23 | C27: Краснодарский край | D27: 55968.5 | E27: =D27*0.8 -> 44774.8 | F27: =E27/246 -> 182.01138 | G27: =F27*1.305 -> 237.52485 | H27: =IF(F27>$M$5,$M$5*1.305+(F27-$M$5)*1.155,F27*1.305) -> 235.00333 | K27: =CONCATENATE(B27," ",C27) -> 23 Краснодарский край | L27: 28448 | M27: =L27/164 -> 173.46341 | N27: =((M27/29.3*28*100%/12)+M27)*1.305+M27*164*24/730*3/12/164 -> 245.82265 | O27: =($L27/29.3*28/12)+$L27+$L27*24/730*3/12 -> 30947.303 | P27: =($M27/29.3*28/12)+$M27+$M27*24/730*3/12 -> 188.70307 | R27: =IF(N27>G27,N27,G27) -> 245.82265 | S27: =IF(N27>H27,N27,H27) -> 245.82265 | U27: Сети/Гипермаркеты | W27: =IF(O27>E27,O27,E27) -> 44774.8 | X27: =IF(P27>F27,P27,F27) -> 188.70307
A28: 24 | B28: 24 | C28: Красноярский край | D28: 80090 | E28: =D28*0.8 -> 64072 | F28: =E28/246 -> 260.45528 | G28: =F28*1.305 -> 339.89415 | H28: =IF(F28>$M$5,$M$5*1.305+(F28-$M$5)*1.155,F28*1.305) -> 325.60604 | K28: =CONCATENATE(B28," ",C28) -> 24 Красноярский край | L28: 27093 | M28: =L28/164 -> 165.20122 | N28: =((M28/29.3*28*100%/12)+M28)*1.305+M28*164*24/730*3/12/164 -> 234.11393 | O28: =($L28/29.3*28/12)+$L28+$L28*24/730*3/12 -> 29473.259 | P28: =($M28/29.3*28/12)+$M28+$M28*24/730*3/12 -> 179.71499 | R28: =IF(N28>G28,N28,G28) -> 339.89415 | S28: =IF(N28>H28,N28,H28) -> 325.60604 | U28: Сети/Распределительные центры | W28: =IF(O28>E28,O28,E28) -> 64072 | X28: =IF(P28>F28,P28,F28) -> 260.45528
A29: 25 | B29: 25 | C29: Приморский край | D29: 74490.8 | E29: =D29*0.8 -> 59592.64 | F29: =E29/246 -> 242.2465 | G29: =F29*1.305 -> 316.13169 | H29: =IF(F29>$M$5,$M$5*1.305+(F29-$M$5)*1.155,F29*1.305) -> 304.5749 | K29: =CONCATENATE(B29," ",C29) -> 25 Приморский край | L29: 27093 | M29: =L29/164 -> 165.20122 | N29: =((M29/29.3*28*100%/12)+M29)*1.305+M29*164*24/730*3/12/164 -> 234.11393 | O29: =($L29/29.3*28/12)+$L29+$L29*24/730*3/12 -> 29473.259 | P29: =($M29/29.3*28/12)+$M29+$M29*24/730*3/12 -> 179.71499 | R29: =IF(N29>G29,N29,G29) -> 316.13169 | S29: =IF(N29>H29,N29,H29) -> 304.5749 | U29: Сети/Офисы | W29: =IF(O29>E29,O29,E29) -> 59592.64 | X29: =IF(P29>F29,P29,F29) -> 242.2465
A30: 26 | B30: 26 | C30: Ставропольский край | D30: 46560.6 | E30: =D30*0.8 -> 37248.48 | F30: =E30/246 -> 151.41659 | G30: =F30*1.305 -> 197.59864 | H30: =IF(F30>$M$5,$M$5*1.305+(F30-$M$5)*1.155,F30*1.305) -> 197.59864 | K30: =CONCATENATE(B30," ",C30) -> 26 Ставропольский край | L30: 27869 | M30: =L30/164 -> 169.93293 | N30: =((M30/29.3*28*100%/12)+M30)*1.305+M30*164*24/730*3/12/164 -> 240.81944 | O30: =($L30/29.3*28/12)+$L30+$L30*24/730*3/12 -> 30317.435 | P30: =($M30/29.3*28/12)+$M30+$M30*24/730*3/12 -> 184.86241 | R30: =IF(N30>G30,N30,G30) -> 240.81944 | S30: =IF(N30>H30,N30,H30) -> 240.81944 | U30: Прочее | W30: =IF(O30>E30,O30,E30) -> 37248.48 | X30: =IF(P30>F30,P30,F30) -> 184.86241
A31: 27 | B31: 27 | C31: Хабаровский край | D31: 66874.5 | E31: =D31*0.8 -> 53499.6 | F31: =E31/246 -> 217.47805 | G31: =F31*1.305 -> 283.80885 | H31: =IF(F31>$M$5,$M$5*1.305+(F31-$M$5)*1.155,F31*1.305) -> 275.96733 | K31: =CONCATENATE(B31," ",C31) -> 27 Хабаровский край | L31: 27093 | M31: =L31/164 -> 165.20122 | N31: =((M31/29.3*28*100%/12)+M31)*1.305+M31*164*24/730*3/12/164 -> 234.11393 | O31: =($L31/29.3*28/12)+$L31+$L31*24/730*3/12 -> 29473.259 | P31: =($M31/29.3*28/12)+$M31+$M31*24/730*3/12 -> 179.71499 | R31: =IF(N31>G31,N31,G31) -> 283.80885 | S31: =IF(N31>H31,N31,H31) -> 275.96733 | W31: =IF(O31>E31,O31,E31) -> 53499.6 | X31: =IF(P31>F31,P31,F31) -> 217.47805
A32: 28 | B32: 28 | C32: Амурская область | D32: 58467.4 | E32: =D32*0.8 -> 46773.92 | F32: =E32/246 -> 190.13789 | G32: =F32*1.305 -> 248.12994 | H32: =IF(F32>$M$5,$M$5*1.305+(F32-$M$5)*1.155,F32*1.305) -> 244.38944 | K32: =CONCATENATE(B32," ",C32) -> 28 Амурская область | L32: 27093 | M32: =L32/164 -> 165.20122 | N32: =((M32/29.3*28*100%/12)+M32)*1.305+M32*164*24/730*3/12/164 -> 234.11393 | O32: =($L32/29.3*28/12)+$L32+$L32*24/730*3/12 -> 29473.259 | P32: =($M32/29.3*28/12)+$M32+$M32*24/730*3/12 -> 179.71499 | R32: =IF(N32>G32,N32,G32) -> 248.12994 | S32: =IF(N32>H32,N32,H32) -> 244.38944 | W32: =IF(O32>E32,O32,E32) -> 46773.92 | X32: =IF(P32>F32,P32,F32) -> 190.13789
A33: 29 | B33: 29 | C33: Архангельская область | D33: 58119.9 | E33: =D33*0.8 -> 46495.92 | F33: =E33/246 -> 189.0078 | G33: =F33*1.305 -> 246.65519 | H33: =IF(F33>$M$5,$M$5*1.305+(F33-$M$5)*1.155,F33*1.305) -> 243.0842 | K33: =CONCATENATE(B33," ",C33) -> 29 Архангельская область | L33: 27093 | M33: =L33/164 -> 165.20122 | N33: =((M33/29.3*28*100%/12)+M33)*1.305+M33*164*24/730*3/12/164 -> 234.11393 | O33: =($L33/29.3*28/12)+$L33+$L33*24/730*3/12 -> 29473.259 | P33: =($M33/29.3*28/12)+$M33+$M33*24/730*3/12 -> 179.71499 | R33: =IF(N33>G33,N33,G33) -> 246.65519 | S33: =IF(N33>H33,N33,H33) -> 243.0842 | W33: =IF(O33>E33,O33,E33) -> 46495.92 | X33: =IF(P33>F33,P33,F33) -> 189.0078
A34: 30 | B34: 30 | C34: Астраханская область | D34: 42532.7 | E34: =D34*0.8 -> 34026.16 | F34: =E34/246 -> 138.31772 | G34: =F34*1.305 -> 180.50463 | H34: =IF(F34>$M$5,$M$5*1.305+(F34-$M$5)*1.155,F34*1.305) -> 180.50463 | K34: =CONCATENATE(B34," ",C34) -> 30 Астраханская область | L34: 27093 | M34: =L34/164 -> 165.20122 | N34: =((M34/29.3*28*100%/12)+M34)*1.305+M34*164*24/730*3/12/164 -> 234.11393 | O34: =($L34/29.3*28/12)+$L34+$L34*24/730*3/12 -> 29473.259 | P34: =($M34/29.3*28/12)+$M34+$M34*24/730*3/12 -> 179.71499 | R34: =IF(N34>G34,N34,G34) -> 234.11393 | S34: =IF(N34>H34,N34,H34) -> 234.11393 | W34: =IF(O34>E34,O34,E34) -> 34026.16 | X34: =IF(P34>F34,P34,F34) -> 179.71499
A35: 31 | B35: 31 | C35: Белгородская область | D35: 51304.3 | E35: =D35*0.8 -> 41043.44 | F35: =E35/246 -> 166.84325 | G35: =F35*1.305 -> 217.73044 | H35: =IF(F35>$M$5,$M$5*1.305+(F35-$M$5)*1.155,F35*1.305) -> 217.48414 | K35: =CONCATENATE(B35," ",C35) -> 31 Белгородская область | L35: 27093 | M35: =L35/164 -> 165.20122 | N35: =((M35/29.3*28*100%/12)+M35)*1.305+M35*164*24/730*3/12/164 -> 234.11393 | O35: =($L35/29.3*28/12)+$L35+$L35*24/730*3/12 -> 29473.259 | P35: =($M35/29.3*28/12)+$M35+$M35*24/730*3/12 -> 179.71499 | R35: =IF(N35>G35,N35,G35) -> 234.11393 | S35: =IF(N35>H35,N35,H35) -> 234.11393 | W35: =IF(O35>E35,O35,E35) -> 41043.44 | X35: =IF(P35>F35,P35,F35) -> 179.71499
A36: 32 | B36: 32 | C36: Брянская область | D36: 47075.8 | E36: =D36*0.8 -> 37660.64 | F36: =E36/246 -> 153.09203 | G36: =F36*1.305 -> 199.7851 | H36: =IF(F36>$M$5,$M$5*1.305+(F36-$M$5)*1.155,F36*1.305) -> 199.7851 | K36: =CONCATENATE(B36," ",C36) -> 32 Брянская область | L36: 27093 | M36: =L36/164 -> 165.20122 | N36: =((M36/29.3*28*100%/12)+M36)*1.305+M36*164*24/730*3/12/164 -> 234.11393 | O36: =($L36/29.3*28/12)+$L36+$L36*24/730*3/12 -> 29473.259 | P36: =($M36/29.3*28/12)+$M36+$M36*24/730*3/12 -> 179.71499 | R36: =IF(N36>G36,N36,G36) -> 234.11393 | S36: =IF(N36>H36,N36,H36) -> 234.11393 | W36: =IF(O36>E36,O36,E36) -> 37660.64 | X36: =IF(P36>F36,P36,F36) -> 179.71499
A37: 33 | B37: 33 | C37: Владимирская область | D37: 51448.7 | E37: =D37*0.8 -> 41158.96 | F37: =E37/246 -> 167.31285 | G37: =F37*1.305 -> 218.34326 | H37: =IF(F37>$M$5,$M$5*1.305+(F37-$M$5)*1.155,F37*1.305) -> 218.02652 | K37: =CONCATENATE(B37," ",C37) -> 33 Владимирская область | L37: 27093 | M37: =L37/164 -> 165.20122 | N37: =((M37/29.3*28*100%/12)+M37)*1.305+M37*164*24/730*3/12/164 -> 234.11393 | O37: =($L37/29.3*28/12)+$L37+$L37*24/730*3/12 -> 29473.259 | P37: =($M37/29.3*28/12)+$M37+$M37*24/730*3/12 -> 179.71499 | R37: =IF(N37>G37,N37,G37) -> 234.11393 | S37: =IF(N37>H37,N37,H37) -> 234.11393 | W37: =IF(O37>E37,O37,E37) -> 41158.96 | X37: =IF(P37>F37,P37,F37) -> 179.71499
A38: 34 | B38: 34 | C38: Волгоградская область | D38: 41600.5 | E38: =D38*0.8 -> 33280.4 | F38: =E38/246 -> 135.28618 | G38: =F38*1.305 -> 176.54846 | H38: =IF(F38>$M$5,$M$5*1.305+(F38-$M$5)*1.155,F38*1.305) -> 176.54846 | K38: =CONCATENATE(B38," ",C38) -> 34 Волгоградская область | L38: 29802 | M38: =L38/164 -> 181.71951 | N38: =((M38/29.3*28*100%/12)+M38)*1.305+M38*164*24/730*3/12/164 -> 257.52273 | O38: =($L38/29.3*28/12)+$L38+$L38*24/730*3/12 -> 32420.259 | P38: =($M38/29.3*28/12)+$M38+$M38*24/730*3/12 -> 197.6845 | R38: =IF(N38>G38,N38,G38) -> 257.52273 | S38: =IF(N38>H38,N38,H38) -> 257.52273 | W38: =IF(O38>E38,O38,E38) -> 33280.4 | X38: =IF(P38>F38,P38,F38) -> 197.6845
A39: 35 | B39: 35 | C39: Вологодская область | D39: 59773.1 | E39: =D39*0.8 -> 47818.48 | F39: =E39/246 -> 194.38407 | G39: =F39*1.305 -> 253.6712 | H39: =IF(F39>$M$5,$M$5*1.305+(F39-$M$5)*1.155,F39*1.305) -> 249.29378 | K39: =CONCATENATE(B39," ",C39) -> 35 Вологодская область | L39: 27093 | M39: =L39/164 -> 165.20122 | N39: =((M39/29.3*28*100%/12)+M39)*1.305+M39*164*24/730*3/12/164 -> 234.11393 | O39: =($L39/29.3*28/12)+$L39+$L39*24/730*3/12 -> 29473.259 | P39: =($M39/29.3*28/12)+$M39+$M39*24/730*3/12 -> 179.71499 | R39: =IF(N39>G39,N39,G39) -> 253.6712 | S39: =IF(N39>H39,N39,H39) -> 249.29378 | W39: =IF(O39>E39,O39,E39) -> 47818.48 | X39: =IF(P39>F39,P39,F39) -> 194.38407
A40: 36 | B40: 36 | C40: Воронежская область | D40: 71919.5 | E40: =D40*0.8 -> 57535.6 | F40: =E40/246 -> 233.88455 | G40: =F40*1.305 -> 305.21934 | H40: =IF(F40>$M$5,$M$5*1.305+(F40-$M$5)*1.155,F40*1.305) -> 294.91684 | K40: =CONCATENATE(B40," ",C40) -> 36 Воронежская область | L40: 27093 | M40: =L40/164 -> 165.20122 | N40: =((M40/29.3*28*100%/12)+M40)*1.305+M40*164*24/730*3/12/164 -> 234.11393 | O40: =($L40/29.3*28/12)+$L40+$L40*24/730*3/12 -> 29473.259 | P40: =($M40/29.3*28/12)+$M40+$M40*24/730*3/12 -> 179.71499 | R40: =IF(N40>G40,N40,G40) -> 305.21934 | S40: =IF(N40>H40,N40,H40) -> 294.91684 | W40: =IF(O40>E40,O40,E40) -> 57535.6 | X40: =IF(P40>F40,P40,F40) -> 233.88455
...

Sheet Калькуляция
B1: Наименование/ИНН подрядчика | C1: ООО "ПРИМЕР"
B2: Критерий коммерческого предприятия | C2: не МСП
B3: Наименование/ИНН заказчика услуг, к которому относится объект
B4: Субъект РФ, в котором оказывается услуга | C4: 77 Город Москва
B5: Вид объекта | C5: Сети/Гипермаркеты
B6: Адрес объекта (индекс, город (населенный пункт), улица, дом (корпус, строение), офис | C6: г. Пример, ул. Пример, д. 8
B7: Площадь объекта (кв.м) | C7: 20000
B9: Калькуляция | E9: Срок контракта, мес. | F9: 12
B10: Наименование статьи затрат | D10: Наименование услуги | G10: Итого выручка проекта среднемесячно, руб. | H10: Итого выручка проекта за весь период, руб. | I10: Доля в выручке без НДС, % | J10: Комментарии
B11: Расходы на оплату труда (см. лист "Расчет ФОТ") | G11: =SUM(G12,G13) -> 0 | H11: =SUM(H12,H13) -> 0 | I11: =IF($H$69=0,"",H11/$H$69)
B12: Зарплата, премии, компенсации, питание | G12: =H12/$F$9 -> 0 | H12: =SUM('Расчет ФОТ'!P7:T7)-'Расчет ФОТ'!U7 -> 0 | I12: =IF($H$69=0,"",H12/$H$69)
B13: Налоги на ФОТ | G13: =H13/$F$9 -> 0 | H13: =SUM(H14:H15) -> 0 | I13: =IF($H$69=0,"",H13/$H$69)
B14: НДФЛ | C14: 0.13 | G14: =H14/$F$9 -> 0 | H14: ='Расчет ФОТ'!U7 -> 0 | I14: =IF($H$69=0,"",H14/$H$69)
B15: Взнос в единый фонд пенсионного и социального страхования | C15: 0.305 | G15: =H15/$F$9 -> 0 | H15: ='Расчет ФОТ'!V7 -> 0 | I15: =IF($H$69=0,"",H15/$H$69)
B16: Расходные материалы | C16: Кол-во | E16: Цена покупки, руб. | G16: =SUM(G17:G20) -> 0 | H16: =SUM(H17:H20) -> 0 | I16: =IF($H$69=0,"",H16/$H$69)
B17: Расходные материалы (химия и РМ для уборки) | G17: =H17/$F$9 -> 0 | H17: =C17*E17 -> 0
B18: Расходные материалы (для уборки внешней территории) | G18: =H18/$F$9 -> 0 | H18: =C18*E18 -> 0
B19: Расходные материалы (прочие) | G19: =H19/$F$9 -> 0 | H19: =C19*E19 -> 0
B20: Расходные материалы (РМ для сан.зон) | G20: =H20/$F$9 -> 0 | H20: =C20*E20 -> 0
B21: Инвентарь | C21: Кол-во | E21: Цена покупки, руб. | G21: =SUM(G22:G29) -> 0 | H21: =SUM(H22:H29) -> 0 | I21: =IF($H$69=0,"",H21/$H$69)
B22: Инвентарь 1 | G22: =H22/$F$9 -> 0 | H22: =C22*E22 -> 0
B23: Инвентарь 2 | G23: =H23/$F$9 -> 0 | H23: =C23*E23 -> 0
B24: Инвентарь 3 | G24: =H24/$F$9 -> 0 | H24: =C24*E24 -> 0
B25: Инвентарь 4 | G25: =H25/$F$9 -> 0 | H25: =C25*E25 -> 0
B26: Инвентарь 5 | G26: =H26/$F$9 -> 0 | H26: =C26*E26 -> 0
B27: Инвентарь 6 | G27: =H27/$F$9 -> 0 | H27: =C27*E27 -> 0
B28: Инвентарь 7 | G28: =H28/$F$9 -> 0 | H28: =C28*E28 -> 0
B29: Инвентарь 8 | G29: =H29/$F$9 -> 0 | H29: =C29*E29 -> 0
B30: Спецодежда | C30: Кол-во | E30: Цена покупки, руб. | G30: =SUM(G31:G38) -> 0 | H30: =SUM(H31:H38) -> 0 | I30: =IF($H$69=0,"",H30/$H$69)
B31: Спецодежда 1 | G31: =H31/$F$9 -> 0 | H31: =C31*E31 -> 0
B32: Спецодежда 2 | G32: =H32/$F$9 -> 0 | H32: =C32*E32 -> 0
B33: Спецодежда 3 | G33: =H33/$F$9 -> 0 | H33: =C33*E33 -> 0
B34: Спецодежда 4 | G34: =H34/$F$9 -> 0 | H34: =C34*E34 -> 0
B35: Спецодежда 5 | G35: =H35/$F$9 -> 0 | H35: =C35*E35 -> 0
B36: Спецодежда 6 | G36: =H36/$F$9 -> 0 | H36: =C36*E36 -> 0
B37: Спецодежда 7 | G37: =H37/$F$9 -> 0 | H37: =C37*E37 -> 0
B38: Спецодежда 8 | G38: =H38/$F$9 -> 0 | H38: =C38*E38 -> 0
B39: Амортизация ОС | G39: =SUM(G41:G47) -> 0 | H39: =SUM(H41:H47) -> 0 | I39: =IF($H$69=0,"",H39/$H$69)
C40: Кол-во | E40: Цена покупки, руб. | F40: Срок амортизации (максимальный)
B41: Электрооборудование крупное - поломоечные машины различного типа (3 амортизационная группа) | F41: 60 | G41: =E41/F41*C41 -> 0 | H41: =G41*$F$9 -> 0
...

Sheet Расчет ФОТ
C2: Табелирование | K2: Заработная плата, руб. | Q2: Надбавки и взносы с ФОТ, руб./период договора | W2: руб. за период договора | X2: руб. в месяц | Y2: руб. в час | Z2: ЕМИСС -20% (не ниже МРОТ), руб. в час | AA2: % отклонения стоимости ч/ч от ЕМИСС в час- 20% (не ниже МРОТ)
K3: Заработная плата 1 сотр. НЕТТО (на руки) | N3: Заработная плата всех сотрудников
C4: Кол- во, чел. | D4: Категория персонала | E4: График и время работы | F4: Гражданство | G4: Кол-во рабочих часов в смену | H4: Кол-во рабочих смен в месяц | I4: Кол-во месяцев | J4: Кол-во рабочих часов итого | K4: в месяц | L4: в смену | M4: в час. | N4: НЕТТО (на руки) в месяц | O4: НЕТТО (на руки) за период договора | P4: с НДФЛ (к начислению) за период договора | Q4: Оплата праздничных дней | R4: Оплата отпускных дней | S4: Оплата питания | T4: Оплата больничных дней (3 дня) | U4: НДФЛ | V4: Взнос в единый фонд пенсионного и социального страхования | W4: Итого ФОТ (с учетом районных коэффициентов, северных надбавок, праздничных, отпускных и больничных дней, НДФЛ и страховых взносов)
V5: 0.305
B6: Расходы на оплату труда | W6: =SUM(W9:W210) -> 0
B7: Зарплата, премии, компенсации | J7: =SUM(J9:J210) -> 0 | O7: =SUM(O9:O210) -> 0 | P7: =SUM(P9:P210) -> 0 | Q7: =SUM(Q9:Q210) -> 0 | R7: =SUM(R9:R210) -> 0 | S7: =SUM(S9:S210) -> 0 | T7: =SUM(T9:T210) -> 0 | U7: =SUM(U9:U211) -> 0 | V7: =SUM(V9:V211) -> 0
J9: =I9*H9*G9*C9 -> 0 | L9: =IF(H9>0,K9/H9,) -> 0 | M9: =IF(G9>0,L9/G9,) -> 0 | N9: =C9*K9 -> 0 | O9: =N9*I9 -> 0 | P9: =O9/0.87 -> 0 | R9: =IF(J9>0,(P9+Q9)/J9/29.3*28*100%/12*J9,0) -> 0 | T9: =SUM(P9:S9)*2/730*3 -> 0 | U9: =SUM(P9:T9)*13% -> 0 | V9: =IF(P9>0,SUM('Расчет ФОТ'!P9:S9)*'Расчет ФОТ'!$V$5,0) -> 0 | W9: =SUM(P9:T9,V9:V9) -> 0 | X9: =IF(I9>0,W9/I9,0) -> 0 | Y9: =IF(J9>0,W9/J9,) -> 0 | Z9: =IF(Y9>0,IF(Калькуляция!$C$2='Статистическая ЗП'!$V$5,VLOOKUP(Калькуляция!$C$4,'Статистическая ЗП'!$K$5:$S$93,9,FALSE),VLOOKUP(Калькуляция!$C$4,'Статистическая ЗП'!$K$5:$S$93,8,FALSE)),"") | AA9: =IF(Y9>0,(Y9-Z9)/Z9,"") | AD9: =(3121)/12*I9*C9 -> 0
J10: =I10*H10*G10*C10 -> 0 | L10: =IF(H10>0,K10/H10,) -> 0 | M10: =IF(G10>0,L10/G10,) -> 0 | N10: =C10*K10 -> 0 | O10: =N10*I10 -> 0 | P10: =O10/0.87 -> 0 | Q10: =IF(L10>0,L10/0.87*14/30*H10/12*I10*C10,) -> 0 | R10: =IF(J10>0,(P10+Q10)/J10/29.3*28*100%/12*J10,0) -> 0 | T10: =SUM(P10:S10)*2/730*3 -> 0 | U10: =SUM(P10:T10)*13% -> 0 | V10: =IF(P10>0,SUM('Расчет ФОТ'!P10:S10)*'Расчет ФОТ'!$V$5,0) -> 0 | W10: =SUM(P10:T10,V10:V10) -> 0 | X10: =IF(I10>0,W10/I10,0) -> 0 | Y10: =IF(J10>0,W10/J10,) -> 0 | Z10: =IF(Y10>0,IF(Калькуляция!$C$2='Статистическая ЗП'!$V$5,VLOOKUP(Калькуляция!$C$4,'Статистическая ЗП'!$K$5:$S$93,9,FALSE),VLOOKUP(Калькуляция!$C$4,'Статистическая ЗП'!$K$5:$S$93,8,FALSE)),"") | AA10: =IF(Y10>0,(Y10-Z10)/Z10,"") | AD10: =(3121)/12*I10*C10 -> 0
J11: =I11*H11*G11*C11 -> 0 | L11: =IF(H11>0,K11/H11,) -> 0 | M11: =IF(G11>0,L11/G11,) -> 0 | N11: =C11*K11 -> 0 | O11: =N11*I11 -> 0 | P11: =O11/0.87 -> 0 | Q11: =IF(L11>0,L11/0.87*14/30*H11/12*I11*C11,) -> 0 | R11: =IF(J11>0,(P11+Q11)/J11/29.3*28*100%/12*J11,0) -> 0 | T11: =SUM(P11:S11)*2/730*3 -> 0 | U11: =SUM(P11:T11)*13% -> 0 | V11: =IF(P11>0,SUM('Расчет ФОТ'!P11:S11)*'Расчет ФОТ'!$V$5,0) -> 0 | W11: =SUM(P11:T11,V11:V11) -> 0 | X11: =IF(I11>0,W11/I11,0) -> 0 | Y11: =IF(J11>0,W11/J11,) -> 0 | Z11: =IF(Y11>0,IF(Калькуляция!$C$2='Статистическая ЗП'!$V$5,VLOOKUP(Калькуляция!$C$4,'Статистическая ЗП'!$K$5:$S$93,9,FALSE),VLOOKUP(Калькуляция!$C$4,'Статистическая ЗП'!$K$5:$S$93,8,FALSE)),"") | AA11: =IF(Y11>0,(Y11-Z11)/Z11,"") | AD11: =(3121)/12*I11*C11 -> 0
J12: =I12*H12*G12*C12 -> 0 | L12: =IF(H12>0,K12/H12,) -> 0 | M12: =IF(G12>0,L12/G12,) -> 0 | N12: =C12*K12 -> 0 | O12: =N12*I12 -> 0 | P12: =O12/0.87 -> 0 | Q12: =IF(L12>0,L12/0.87*14/30*H12/12*I12*C12,) -> 0 | R12: =IF(J12>0,(P12+Q12)/J12/29.3*28*100%/12*J12,0) -> 0 | T12: =SUM(P12:S12)*2/730*3 -> 0 | U12: =SUM(P12:T12)*13% -> 0 | V12: =IF(P12>0,SUM('Расчет ФОТ'!P12:S12)*'Расчет ФОТ'!$V$5,0) -> 0 | W12: =SUM(P12:T12,V12:V12) -> 0 | X12: =IF(I12>0,W12/I12,0) -> 0 | Y12: =IF(J12>0,W12/J12,) -> 0 | Z12: =IF(Y12>0,IF(Калькуляция!$C$2='Статистическая ЗП'!$V$5,VLOOKUP(Калькуляция!$C$4,'Статистическая ЗП'!$K$5:$S$93,9,FALSE),VLOOKUP(Калькуляция!$C$4,'Статистическая ЗП'!$K$5:$S$93,8,FALSE)),"") | AA12: =IF(Y12>0,(Y12-Z12)/Z12,"") | AD12: =(3121)/12*I12*C12 -> 0
J13: =I13*H13*G13*C13 -> 0 | L13: =IF(H13>0,K13/H13,) -> 0 | M13: =IF(G13>0,L13/G13,) -> 0 | N13: =C13*K13 -> 0 | O13: =N13*I13 -> 0 | P13: =O13/0.87 -> 0 | Q13: =IF(L13>0,L13/0.87*14/30*H13/12*I13*C13,) -> 0 | R13: =IF(I13>0,(P13+Q13)/I13/29.3*28*100%/12*I13,0) -> 0 | T13: =SUM(P13:S13)*2/730*3 -> 0 | U13: =SUM(P13:T13)*13% -> 0 | V13: =IF(P13>0,SUM('Расчет ФОТ'!P13:S13)*'Расчет ФОТ'!$V$5,0) -> 0 | W13: =SUM(P13:T13,V13:V13) -> 0 | X13: =IF(I13>0,W13/I13,0) -> 0 | Y13: =IF(J13>0,W13/J13,) -> 0 | Z13: =IF(Y13>0,IF(Калькуляция!$C$2='Статистическая ЗП'!$V$5,VLOOKUP(Калькуляция!$C$4,'Статистическая ЗП'!$K$5:$S$93,9,FALSE),VLOOKUP(Калькуляция!$C$4,'Статистическая ЗП'!$K$5:$S$93,8,FALSE)),"") | AA13: =IF(Y13>0,(Y13-Z13)/Z13,"") | AD13: =(3121)/12*I13*C13 -> 0
J14: =I14*H14*G14*C14 -> 0 | L14: =IF(H14>0,K14/H14,) -> 0 | M14: =IF(G14>0,L14/G14,) -> 0 | N14: =C14*K14 -> 0 | O14: =N14*I14 -> 0 | P14: =O14/0.87 -> 0 | Q14: =IF(L14>0,L14/0.87*14/30*H14/12*I14*C14,) -> 0 | R14: =IF(J14>0,(P14+Q14)/J14/29.3*28*100%/12*J14,0) -> 0 | T14: =SUM(P14:S14)*2/730*3 -> 0 | U14: =SUM(P14:T14)*13% -> 0 | V14: =IF(P14>0,SUM('Расчет ФОТ'!P14:S14)*'Расчет ФОТ'!$V$5,0) -> 0 | W14: =SUM(P14:T14,V14:V14) -> 0 | X14: =IF(I14>0,W14/I14,0) -> 0 | Y14: =IF(J14>0,W14/J14,) -> 0 | Z14: =IF(Y14>0,IF(Калькуляция!$C$2='Статистическая ЗП'!$V$5,VLOOKUP(Калькуляция!$C$4,'Статистическая ЗП'!$K$5:$S$93,9,FALSE),VLOOKUP(Калькуляция!$C$4,'Статистическая ЗП'!$K$5:$S$93,8,FALSE)),"") | AA14: =IF(Y14>0,(Y14-Z14)/Z14,"") | AD14: =(3121)/12*I14*C14 -> 0
J15: =I15*H15*G15*C15 -> 0 | L15: =IF(H15>0,K15/H15,) -> 0 | M15: =IF(G15>0,L15/G15,) -> 0 | N15: =C15*K15 -> 0 | O15: =N15*I15 -> 0 | P15: =O15/0.87 -> 0 | Q15: =IF(L15>0,L15/0.87*14/30*H15/12*I15*C15,) -> 0 | R15: =IF(J15>0,(P15+Q15)/J15/29.3*28*100%/12*J15,0) -> 0 | T15: =SUM(P15:S15)*2/730*3 -> 0 | U15: =SUM(P15:T15)*13% -> 0 | V15: =IF(P15>0,SUM('Расчет ФОТ'!P15:S15)*'Расчет ФОТ'!$V$5,0) -> 0 | W15: =SUM(P15:T15,V15:V15) -> 0 | X15: =IF(I15>0,W15/I15,0) -> 0 | Y15: =IF(J15>0,W15/J15,) -> 0 | Z15: =IF(Y15>0,IF(Калькуляция!$C$2='Статистическая ЗП'!$V$5,VLOOKUP(Калькуляция!$C$4,'Статистическая ЗП'!$K$5:$S$93,9,FALSE),VLOOKUP(Калькуляция!$C$4,'Статистическая ЗП'!$K$5:$S$93,8,FALSE)),"") | AA15: =IF(Y15>0,(Y15-Z15)/Z15,"") | AD15: =(3121)/12*I15*C15 -> 0
J16: =I16*H16*G16*C16 -> 0 | L16: =IF(H16>0,K16/H16,) -> 0 | M16: =IF(G16>0,L16/G16,) -> 0 | N16: =C16*K16 -> 0 | O16: =N16*I16 -> 0 | P16: =O16/0.87 -> 0 | Q16: =IF(L16>0,L16/0.87*14/30*H16/12*I16*C16,) -> 0 | R16: =IF(J16>0,(P16+Q16)/J16/29.3*28*100%/12*J16,0) -> 0 | T16: =SUM(P16:S16)*2/730*3 -> 0 | U16: =SUM(P16:T16)*13% -> 0 | V16: =IF(P16>0,SUM('Расчет ФОТ'!P16:S16)*'Расчет ФОТ'!$V$5,0) -> 0 | W16: =SUM(P16:T16,V16:V16) -> 0 | X16: =IF(I16>0,W16/I16,0) -> 0 | Y16: =IF(J16>0,W16/J16,) -> 0 | Z16: =IF(Y16>0,IF(Калькуляция!$C$2='Статистическая ЗП'!$V$5,VLOOKUP(Калькуляция!$C$4,'Статистическая ЗП'!$K$5:$S$93,9,FALSE),VLOOKUP(Калькуляция!$C$4,'Статистическая ЗП'!$K$5:$S$93,8,FALSE)),"") | AA16: =IF(Y16>0,(Y16-Z16)/Z16,"") | AD16: =(3121)/12*I16*C16 -> 0
J17: =I17*H17*G17*C17 -> 0 | L17: =IF(H17>0,K17/H17,) -> 0 | M17: =IF(G17>0,L17/G17,) -> 0 | N17: =C17*K17 -> 0 | O17: =N17*I17 -> 0 | P17: =O17/0.87 -> 0 | Q17: =IF(L17>0,L17/0.87*14/30*H17/12*I17*C17,) -> 0 | R17: =IF(J17>0,(P17+Q17)/J17/29.3*28*100%/12*J17,0) -> 0 | T17: =SUM(P17:S17)*2/730*3 -> 0 | U17: =SUM(P17:T17)*13% -> 0 | V17: =IF(P17>0,SUM('Расчет ФОТ'!P17:S17)*'Расчет ФОТ'!$V$5,0) -> 0 | W17: =SUM(P17:T17,V17:V17) -> 0 | X17: =IF(I17>0,W17/I17,0) -> 0 | Y17: =IF(J17>0,W17/J17,) -> 0 | Z17: =IF(Y17>0,IF(Калькуляция!$C$2='Статистическая ЗП'!$V$5,VLOOKUP(Калькуляция!$C$4,'Статистическая ЗП'!$K$5:$S$93,9,FALSE),VLOOKUP(Калькуляция!$C$4,'Статистическая ЗП'!$K$5:$S$93,8,FALSE)),"") | AA17: =IF(Y17>0,(Y17-Z17)/Z17,"") | AD17: =(3121)/12*I17*C17 -> 0
J18: =I18*H18*G18*C18 -> 0 | L18: =IF(H18>0,K18/H18,) -> 0 | M18: =IF(G18>0,L18/G18,) -> 0 | N18: =C18*K18 -> 0 | O18: =N18*I18 -> 0 | P18: =O18/0.87 -> 0 | Q18: =IF(L18>0,L18/0.87*14/30*H18/12*I18*C18,) -> 0 | R18: =IF(J18>0,(P18+Q18)/J18/29.3*28*100%/12*J18,0) -> 0 | T18: =SUM(P18:S18)*2/730*3 -> 0 | U18: =SUM(P18:T18)*13% -> 0 | V18: =IF(P18>0,SUM('Расчет ФОТ'!P18:S18)*'Расчет ФОТ'!$V$5,0) -> 0 | W18: =SUM(P18:T18,V18:V18) -> 0 | X18: =IF(I18>0,W18/I18,0) -> 0 | Y18: =IF(J18>0,W18/J18,) -> 0 | Z18: =IF(Y18>0,IF(Калькуляция!$C$2='Статистическая ЗП'!$V$5,VLOOKUP(Калькуляция!$C$4,'Статистическая ЗП'!$K$5:$S$93,9,FALSE),VLOOKUP(Калькуляция!$C$4,'Статистическая ЗП'!$K$5:$S$93,8,FALSE)),"") | AA18: =IF(Y18>0,(Y18-Z18)/Z18,"") | AD18: =(3121)/12*I18*C18 -> 0
J19: =I19*H19*G19*C19 -> 0 | L19: =IF(H19>0,K19/H19,) -> 0 | M19: =IF(G19>0,L19/G19,) -> 0 | N19: =C19*K19 -> 0 | O19: =N19*I19 -> 0 | P19: =O19/0.87 -> 0 | Q19: =IF(L19>0,L19/0.87*14/30*H19/12*I19*C19,) -> 0 | R19: =IF(J19>0,(P19+Q19)/J19/29.3*28*100%/12*J19,0) -> 0 | T19: =SUM(P19:S19)*2/730*3 -> 0 | U19: =SUM(P19:T19)*13% -> 0 | V19: =IF(P19>0,SUM('Расчет ФОТ'!P19:S19)*'Расчет ФОТ'!$V$5,0) -> 0 | W19: =SUM(P19:T19,V19:V19) -> 0 | X19: =IF(I19>0,W19/I19,0) -> 0 | Y19: =IF(J19>0,W19/J19,) -> 0 | Z19: =IF(Y19>0,IF(Калькуляция!$C$2='Статистическая ЗП'!$V$5,VLOOKUP(Калькуляция!$C$4,'Статистическая ЗП'!$K$5:$S$93,9,FALSE),VLOOKUP(Калькуляция!$C$4,'Статистическая ЗП'!$K$5:$S$93,8,FALSE)),"") | AA19: =IF(Y19>0,(Y19-Z19)/Z19,"") | AD19: =(3121)/12*I19*C19 -> 0
J20: =I20*H20*G20*C20 -> 0 | L20: =IF(H20>0,K20/H20,) -> 0 | M20: =IF(G20>0,L20/G20,) -> 0 | N20: =C20*K20 -> 0 | O20: =N20*I20 -> 0 | P20: =O20/0.87 -> 0 | Q20: =IF(L20>0,L20/0.87*14/30*H20/12*I20*C20,) -> 0 | R20: =IF(J20>0,(P20+Q20)/J20/29.3*28*100%/12*J20,0) -> 0 | T20: =SUM(P20:S20)*2/730*3 -> 0 | U20: =SUM(P20:T20)*13% -> 0 | V20: =IF(P20>0,SUM('Расчет ФОТ'!P20:S20)*'Расчет ФОТ'!$V$5,0) -> 0 | W20: =SUM(P20:T20,V20:V20) -> 0 | X20: =IF(I20>0,W20/I20,0) -> 0 | Y20: =IF(J20>0,W20/J20,) -> 0 | Z20: =IF(Y20>0,IF(Калькуляция!$C$2='Статистическая ЗП'!$V$5,VLOOKUP(Калькуляция!$C$4,'Статистическая ЗП'!$K$5:$S$93,9,FALSE),VLOOKUP(Калькуляция!$C$4,'Статистическая ЗП'!$K$5:$S$93,8,FALSE)),"") | AA20: =IF(Y20>0,(Y20-Z20)/Z20,"") | AD20: =(3121)/12*I20*C20 -> 0
J21: =I21*H21*G21*C21 -> 0 | L21: =IF(H21>0,K21/H21,) -> 0 | M21: =IF(G21>0,L21/G21,) -> 0 | N21: =C21*K21 -> 0 | O21: =N21*I21 -> 0 | P21: =O21/0.87 -> 0 | Q21: =IF(L21>0,L21/0.87*14/30*H21/12*I21*C21,) -> 0 | R21: =IF(J21>0,(P21+Q21)/J21/29.3*28*100%/12*J21,0) -> 0 | T21: =SUM(P21:S21)*2/730*3 -> 0 | U21: =SUM(P21:T21)*13% -> 0 | V21: =IF(P21>0,SUM('Расчет ФОТ'!P21:S21)*'Расчет ФОТ'!$V$5,0) -> 0 | W21: =SUM(P21:T21,V21:V21) -> 0 | X21: =IF(I21>0,W21/I21,0) -> 0 | Y21: =IF(J21>0,W21/J21,) -> 0 | Z21: =IF(Y21>0,IF(Калькуляция!$C$2='Статистическая ЗП'!$V$5,VLOOKUP(Калькуляция!$C$4,'Статистическая ЗП'!$K$5:$S$93,9,FALSE),VLOOKUP(Калькуляция!$C$4,'Статистическая ЗП'!$K$5:$S$93,8,FALSE)),"") | AA21: =IF(Y21>0,(Y21-Z21)/Z21,"") | AD21: =(3121)/12*I21*C21 -> 0
J22: =I22*H22*G22*C22 -> 0 | L22: =IF(H22>0,K22/H22,) -> 0 | M22: =IF(G22>0,L22/G22,) -> 0 | N22: =C22*K22 -> 0 | O22: =N22*I22 -> 0 | P22: =O22/0.87 -> 0 | Q22: =IF(L22>0,L22/0.87*14/30*H22/12*I22*C22,) -> 0 | R22: =IF(J22>0,(P22+Q22)/J22/29.3*28*100%/12*J22,0) -> 0 | T22: =SUM(P22:S22)*2/730*3 -> 0 | U22: =SUM(P22:T22)*13% -> 0 | V22: =IF(P22>0,SUM('Расчет ФОТ'!P22:S22)*'Расчет ФОТ'!$V$5,0) -> 0 | W22: =SUM(P22:T22,V22:V22) -> 0 | X22: =IF(I22>0,W22/I22,0) -> 0 | Y22: =IF(J22>0,W22/J22,) -> 0 | Z22: =IF(Y22>0,IF(Калькуляция!$C$2='Статистическая ЗП'!$V$5,VLOOKUP(Калькуляция!$C$4,'Статистическая ЗП'!$K$5:$S$93,9,FALSE),VLOOKUP(Калькуляция!$C$4,'Статистическая ЗП'!$K$5:$S$93,8,FALSE)),"") | AA22: =IF(Y22>0,(Y22-Z22)/Z22,"") | AD22: =(3121)/12*I22*C22 -> 0
J23: =I23*H23*G23*C23 -> 0 | L23: =IF(H23>0,K23/H23,) -> 0 | M23: =IF(G23>0,L23/G23,) -> 0 | N23: =C23*K23 -> 0 | O23: =N23*I23 -> 0 | P23: =O23/0.87 -> 0 | Q23: =IF(L23>0,L23/0.87*14/30*H23/12*I23*C23,) -> 0 | R23: =IF(J23>0,(P23+Q23)/J23/29.3*28*100%/12*J23,0) -> 0 | T23: =SUM(P23:S23)*2/730*3 -> 0 | U23: =SUM(P23:T23)*13% -> 0 | V23: =IF(P23>0,SUM('Расчет ФОТ'!P23:S23)*'Расчет ФОТ'!$V$5,0) -> 0 | W23: =SUM(P23:T23,V23:V23) -> 0 | X23: =IF(I23>0,W23/I23,0) -> 0 | Y23: =IF(J23>0,W23/J23,) -> 0 | Z23: =IF(Y23>0,IF(Калькуляция!$C$2='Статистическая ЗП'!$V$5,VLOOKUP(Калькуляция!$C$4,'Статистическая ЗП'!$K$5:$S$93,9,FALSE),VLOOKUP(Калькуляция!$C$4,'Статистическая ЗП'!$K$5:$S$93,8,FALSE)),"") | AA23: =IF(Y23>0,(Y23-Z23)/Z23,"") | AD23: =(3121)/12*I23*C23 -> 0
J24: =I24*H24*G24*C24 -> 0 | L24: =IF(H24>0,K24/H24,) -> 0 | M24: =IF(G24>0,L24/G24,) -> 0 | N24: =C24*K24 -> 0 | O24: =N24*I24 -> 0 | P24: =O24/0.87 -> 0 | Q24: =IF(L24>0,L24/0.87*14/30*H24/12*I24*C24,) -> 0 | R24: =IF(J24>0,(P24+Q24)/J24/29.3*28*100%/12*J24,0) -> 0 | T24: =SUM(P24:S24)*2/730*3 -> 0 | U24: =SUM(P24:T24)*13% -> 0 | V24: =IF(P24>0,SUM('Расчет ФОТ'!P24:S24)*'Расчет ФОТ'!$V$5,0) -> 0 | W24: =SUM(P24:T24,V24:V24) -> 0 | X24: =IF(I24>0,W24/I24,0) -> 0 | Y24: =IF(J24>0,W24/J24,) -> 0 | Z24: =IF(Y24>0,IF(Калькуляция!$C$2='Статистическая ЗП'!$V$5,VLOOKUP(Калькуляция!$C$4,'Статистическая ЗП'!$K$5:$S$93,9,FALSE),VLOOKUP(Калькуляция!$C$4,'Статистическая ЗП'!$K$5:$S$93,8,FALSE)),"") | AA24: =IF(Y24>0,(Y24-Z24)/Z24,"") | AD24: =(3121)/12*I24*C24 -> 0
J25: =I25*H25*G25*C25 -> 0 | L25: =IF(H25>0,K25/H25,) -> 0 | M25: =IF(G25>0,L25/G25,) -> 0 | N25: =C25*K25 -> 0 | O25: =N25*I25 -> 0 | P25: =O25/0.87 -> 0 | Q25: =IF(L25>0,L25/0.87*14/30*H25/12*I25*C25,) -> 0 | R25: =IF(J25>0,(P25+Q25)/J25/29.3*28*100%/12*J25,0) -> 0 | T25: =SUM(P25:S25)*2/730*3 -> 0 | U25: =SUM(P25:T25)*13% -> 0 | V25: =IF(P25>0,SUM('Расчет ФОТ'!P25:S25)*'Расчет ФОТ'!$V$5,0) -> 0 | W25: =SUM(P25:T25,V25:V25) -> 0 | X25: =IF(I25>0,W25/I25,0) -> 0 | Y25: =IF(J25>0,W25/J25,) -> 0 | Z25: =IF(Y25>0,IF(Калькуляция!$C$2='Статистическая ЗП'!$V$5,VLOOKUP(Калькуляция!$C$4,'Статистическая ЗП'!$K$5:$S$93,9,FALSE),VLOOKUP(Калькуляция!$C$4,'Статистическая ЗП'!$K$5:$S$93,8,FALSE)),"") | AA25: =IF(Y25>0,(Y25-Z25)/Z25,"") | AD25: =(3121)/12*I25*C25 -> 0
... J210: =I210*H210*G210*C210 -> 0 | L210: =IF(H210>0,K210/H210,) -> 0 | M210: =IF(G210>0,L210/G210,) -> 0 | N210: =C210*K210 -> 0 | O210: =N210*I210 -> 0 | P210: =O210/0.87 -> 0 | Q210: =IF(L210>0,L210/0.87*14/30*H210/12*I210*C210,) -> 0 | R210: =IF(J210>0,(P210+Q210)/J210/29.3*28*100%/12*J210,0) -> 0 | T210: =SUM(P210:S210)*2/730*3 -> 0 | U210: =SUM(P210:T210)*13% -> 0 | V210: =IF(P210>0,SUM('Расчет ФОТ'!P210:S210)*'Расчет ФОТ'!$V$5,0) -> 0 | W210: =SUM(P210:T210,V210:V210) -> 0 | X210: =IF(I210>0,W210/I210,0) -> 0 | Y210: =IF(J210>0,W210/J210,) -> 0 | Z210: =IF(Y210>0,IF(Калькуляция!$C$2='Статистическая ЗП'!$V$5,VLOOKUP(Калькуляция!$C$4,'Статистическая ЗП'!$K$5:$S$93,9,FALSE),VLOOKUP(Калькуляция!$C$4,'Статистическая ЗП'!$K$5:$S$93,8,FALSE)),"") | AA210: =IF(Y210>0,(Y210-Z210)/Z210,"") | AD210: =(3121)/12*I210*C210 -> 0
B212: Категории персонала
B213: Управление объектом
B214: Уборка внутренних помещений (ОВУ)
B215: Уборка внутренних помещений (ОПМ)
B216: Сбор тележек
B217: Уборка внешней территории (ОВнУ)
B218: Уборка внешней территории с помощью трактора
B219: Категория 7
B220: Категория 8
B221: Категория 9
B222: Категория 10
B223: Категория 11
... B232: Иностранцы (ЕАЭС)

Sheet Тарификатор
A1: Должность | B1: Наименование услуги | C1: Тариф, руб. в час | E1: Итого часов | F1: Итого выручка проекта за весь период, руб. | H1: Итого (справочно) выручка проекта среднемесячно, руб.
C2: без НДС | D2: с НДС | F2: без НДС | G2: с НДС | H2: без НДС | I2: с НДС
A3: ='Расчет ФОТ'!B9 -> 0 | B3: ='Расчет ФОТ'!D9 -> 0 | C3: =IF('Расчет ФОТ'!Y9>0,'Расчет ФОТ'!Y9+IF('Расчет ФОТ'!D9='Расчет ФОТ'!$D$7,$G$227,SUMIF($B$212:$B$227,'Расчет ФОТ'!D9,$G$212:$G$227)),0) -> 0 | D3: =C3*(1+Калькуляция!$C$70) -> 0 | E3: =IF('Расчет ФОТ'!J9>0,'Расчет ФОТ'!J9,0) -> 0 | F3: =IF(E3>0,E3*C3,0) -> 0 | G3: =IF(E3>0,E3*D3,0) -> 0 | H3: =F3/Калькуляция!$F$9 -> 0 | I3: =G3/Калькуляция!$F$9 -> 0
A4: ='Расчет ФОТ'!B10 -> 0 | B4: ='Расчет ФОТ'!D10 -> 0 | C4: =IF('Расчет ФОТ'!Y10>0,'Расчет ФОТ'!Y10+IF('Расчет ФОТ'!D10='Расчет ФОТ'!$D$7,$G$227,SUMIF($B$212:$B$227,'Расчет ФОТ'!D10,$G$212:$G$227)),0) -> 0 | D4: =C4*(1+Калькуляция!$C$70) -> 0 | E4: =IF('Расчет ФОТ'!J10>0,'Расчет ФОТ'!J10,0) -> 0 | F4: =IF(E4>0,E4*C4,0) -> 0 | G4: =IF(E4>0,E4*D4,0) -> 0 | H4: =F4/Калькуляция!$F$9 -> 0 | I4: =G4/Калькуляция!$F$9 -> 0
A5: ='Расчет ФОТ'!B11 -> 0 | B5: ='Расчет ФОТ'!D11 -> 0 | C5: =IF('Расчет ФОТ'!Y11>0,'Расчет ФОТ'!Y11+IF('Расчет ФОТ'!D11='Расчет ФОТ'!$D$7,$G$227,SUMIF($B$212:$B$227,'Расчет ФОТ'!D11,$G$212:$G$227)),0) -> 0 | D5: =C5*(1+Калькуляция!$C$70) -> 0 | E5: =IF('Расчет ФОТ'!J11>0,'Расчет ФОТ'!J11,0) -> 0 | F5: =IF(E5>0,E5*C5,0) -> 0 | G5: =IF(E5>0,E5*D5,0) -> 0 | H5: =F5/Калькуляция!$F$9 -> 0 | I5: =G5/Калькуляция!$F$9 -> 0
A6: ='Расчет ФОТ'!B12 -> 0 | B6: ='Расчет ФОТ'!D12 -> 0 | C6: =IF('Расчет ФОТ'!Y12>0,'Расчет ФОТ'!Y12+IF('Расчет ФОТ'!D12='Расчет ФОТ'!$D$7,$G$227,SUMIF($B$212:$B$227,'Расчет ФОТ'!D12,$G$212:$G$227)),0) -> 0 | D6: =C6*(1+Калькуляция!$C$70) -> 0 | E6: =IF('Расчет ФОТ'!J12>0,'Расчет ФОТ'!J12,0) -> 0 | F6: =IF(E6>0,E6*C6,0) -> 0 | G6: =IF(E6>0,E6*D6,0) -> 0 | H6: =F6/Калькуляция!$F$9 -> 0 | I6: =G6/Калькуляция!$F$9 -> 0
A7: ='Расчет ФОТ'!B13 -> 0 | B7: ='Расчет ФОТ'!D13 -> 0 | C7: =IF('Расчет ФОТ'!Y13>0,'Расчет ФОТ'!Y13+IF('Расчет ФОТ'!D13='Расчет ФОТ'!$D$7,$G$227,SUMIF($B$212:$B$227,'Расчет ФОТ'!D13,$G$212:$G$227)),0) -> 0 | D7: =C7*(1+Калькуляция!$C$70) -> 0 | E7: =IF('Расчет ФОТ'!J13>0,'Расчет ФОТ'!J13,0) -> 0 | F7: =IF(E7>0,E7*C7,0) -> 0 | G7: =IF(E7>0,E7*D7,0) -> 0 | H7: =F7/Калькуляция!$F$9 -> 0 | I7: =G7/Калькуляция!$F$9 -> 0
A8: ='Расчет ФОТ'!B14 -> 0 | B8: ='Расчет ФОТ'!D14 -> 0 | C8: =IF('Расчет ФОТ'!Y14>0,'Расчет ФОТ'!Y14+IF('Расчет ФОТ'!D14='Расчет ФОТ'!$D$7,$G$227,SUMIF($B$212:$B$227,'Расчет ФОТ'!D14,$G$212:$G$227)),0) -> 0 | D8: =C8*(1+Калькуляция!$C$70) -> 0 | E8: =IF('Расчет ФОТ'!J14>0,'Расчет ФОТ'!J14,0) -> 0 | F8: =IF(E8>0,E8*C8,0) -> 0 | G8: =IF(E8>0,E8*D8,0) -> 0 | H8: =F8/Калькуляция!$F$9 -> 0 | I8: =G8/Калькуляция!$F$9 -> 0
A9: ='Расчет ФОТ'!B15 -> 0 | B9: ='Расчет ФОТ'!D15 -> 0 | C9: =IF('Расчет ФОТ'!Y15>0,'Расчет ФОТ'!Y15+IF('Расчет ФОТ'!D15='Расчет ФОТ'!$D$7,$G$227,SUMIF($B$212:$B$227,'Расчет ФОТ'!D15,$G$212:$G$227)),0) -> 0 | D9: =C9*(1+Калькуляция!$C$70) -> 0 | E9: =IF('Расчет ФОТ'!J15>0,'Расчет ФОТ'!J15,0) -> 0 | F9: =IF(E9>0,E9*C9,0) -> 0 | G9: =IF(E9>0,E9*D9,0) -> 0 | H9: =F9/Калькуляция!$F$9 -> 0 | I9: =G9/Калькуляция!$F$9 -> 0
A10: ='Расчет ФОТ'!B16 -> 0 | B10: ='Расчет ФОТ'!D16 -> 0 | C10: =IF('Расчет ФОТ'!Y16>0,'Расчет ФОТ'!Y16+IF('Расчет ФОТ'!D16='Расчет ФОТ'!$D$7,$G$227,SUMIF($B$212:$B$227,'Расчет ФОТ'!D16,$G$212:$G$227)),0) -> 0 | D10: =C10*(1+Калькуляция!$C$70) -> 0 | E10: =IF('Расчет ФОТ'!J16>0,'Расчет ФОТ'!J16,0) -> 0 | F10: =IF(E10>0,E10*C10,0) -> 0 | G10: =IF(E10>0,E10*D10,0) -> 0 | H10: =F10/Калькуляция!$F$9 -> 0 | I10: =G10/Калькуляция!$F$9 -> 0
A11: ='Расчет ФОТ'!B17 -> 0 | B11: ='Расчет ФОТ'!D17 -> 0 | C11: =IF('Расчет ФОТ'!Y17>0,'Расчет ФОТ'!Y17+IF('Расчет ФОТ'!D17='Расчет ФОТ'!$D$7,$G$227,SUMIF($B$212:$B$227,'Расчет ФОТ'!D17,$G$212:$G$227)),0) -> 0 | D11: =C11*(1+Калькуляция!$C$70) -> 0 | E11: =IF('Расчет ФОТ'!J17>0,'Расчет ФОТ'!J17,0) -> 0 | F11: =IF(E11>0,E11*C11,0) -> 0 | G11: =IF(E11>0,E11*D11,0) -> 0 | H11: =F11/Калькуляция!$F$9 -> 0 | I11: =G11/Калькуляция!$F$9 -> 0
A12: ='Расчет ФОТ'!B18 -> 0 | B12: ='Расчет ФОТ'!D18 -> 0 | C12: =IF('Расчет ФОТ'!Y18>0,'Расчет ФОТ'!Y18+IF('Расчет ФОТ'!D18='Расчет ФОТ'!$D$7,$G$227,SUMIF($B$212:$B$227,'Расчет ФОТ'!D18,$G$212:$G$227)),0) -> 0 | D12: =C12*(1+Калькуляция!$C$70) -> 0 | E12: =IF('Расчет ФОТ'!J18>0,'Расчет ФОТ'!J18,0) -> 0 | F12: =IF(E12>0,E12*C12,0) -> 0 | G12: =IF(E12>0,E12*D12,0) -> 0 | H12: =F12/Калькуляция!$F$9 -> 0 | I12: =G12/Калькуляция!$F$9 -> 0
A13: ='Расчет ФОТ'!B19 -> 0 | B13: ='Расчет ФОТ'!D19 -> 0 | C13: =IF('Расчет ФОТ'!Y19>0,'Расчет ФОТ'!Y19+IF('Расчет ФОТ'!D19='Расчет ФОТ'!$D$7,$G$227,SUMIF($B$212:$B$227,'Расчет ФОТ'!D19,$G$212:$G$227)),0) -> 0 | D13: =C13*(1+Калькуляция!$C$70) -> 0 | E13: =IF('Расчет ФОТ'!J19>0,'Расчет ФОТ'!J19,0) -> 0 | F13: =IF(E13>0,E13*C13,0) -> 0 | G13: =IF(E13>0,E13*D13,0) -> 0 | H13: =F13/Калькуляция!$F$9 -> 0 | I13: =G13/Калькуляция!$F$9 -> 0
A14: ='Расчет ФОТ'!B20 -> 0 | B14: ='Расчет ФОТ'!D20 -> 0 | C14: =IF('Расчет ФОТ'!Y20>0,'Расчет ФОТ'!Y20+IF('Расчет ФОТ'!D20='Расчет ФОТ'!$D$7,$G$227,SUMIF($B$212:$B$227,'Расчет ФОТ'!D20,$G$212:$G$227)),0) -> 0 | D14: =C14*(1+Калькуляция!$C$70) -> 0 | E14: =IF('Расчет ФОТ'!J20>0,'Расчет ФОТ'!J20,0) -> 0 | F14: =IF(E14>0,E14*C14,0) -> 0 | G14: =IF(E14>0,E14*D14,0) -> 0 | H14: =F14/Калькуляция!$F$9 -> 0 | I14: =G14/Калькуляция!$F$9 -> 0
... A204: ='Расчет ФОТ'!B210 -> 0 | B204: ='Расчет ФОТ'!D210 -> 0 | C204: =IF('Расчет ФОТ'!Y210>0,'Расчет ФОТ'!Y210+IF('Расчет ФОТ'!D210='Расчет ФОТ'!$D$7,$G$227,SUMIF($B$212:$B$227,'Расчет ФОТ'!D210,$G$212:$G$227)),0) -> 0 | D204: =C204*(1+Калькуляция!$C$70) -> 0 | E204: =IF('Расчет ФОТ'!J210>0,'Расчет ФОТ'!J210,0) -> 0 | F204: =IF(E204>0,E204*C204,0) -> 0 | G204: =IF(E204>0,E204*D204,0) -> 0 | H204: =F204/Калькуляция!$F$9 -> 0 | I204: =G204/Калькуляция!$F$9 -> 0
E206: =SUM(E3:E204) -> 0 | F206: =SUM(F3:F204) -> 0 | G206: =SUM(G3:G204) -> 0 | H206: =SUM(H3:H204) -> 0 | I206: =SUM(I3:I204) -> 0
C211: Распределяемые затраты, руб. | D211: чел-часы | E211: Стоимость в час, руб. | F211: Нераспределяемые затраты, руб. | G211: Итого Затраты в час, руб.
B212: ='Расчет ФОТ'!B213 -> Управление объектом | C212: =IF(D212>0,SUMIF(Калькуляция!$D$17:$D$62,B212,Калькуляция!$H$17:$H$62),0) -> 0 | D212: =SUMIF('Расчет ФОТ'!$D$9:$D$210,B212,'Расчет ФОТ'!$J$9:$J$210) -> 0 | E212: =IF(D212>0,C212/D212,0) -> 0 | F212: =(SUM(Калькуляция!H48,Калькуляция!H55:H62,Калькуляция!H64:H65,Калькуляция!H67)+$C$228)/'Расчет ФОТ'!J7 -> #DIV/0! | G212: =SUM(E212:F212) -> #DIV/0!
B213: ='Расчет ФОТ'!B214 -> Уборка внутренних помещений (ОВУ) | C213: =IF(D213>0,SUMIF(Калькуляция!$D$17:$D$62,B213,Калькуляция!$H$17:$H$62),0) -> 0 | D213: =SUMIF('Расчет ФОТ'!$D$9:$D$210,B213,'Расчет ФОТ'!$J$9:$J$210) -> 0 | E213: =IF(D213>0,C213/D213,0) -> 0 | F213: =F212 -> #DIV/0! | G213: =SUM(E213:F213) -> #DIV/0!
B214: ='Расчет ФОТ'!B215 -> Уборка внутренних помещений (ОПМ) | C214: =IF(D214>0,SUMIF(Калькуляция!$D$17:$D$62,B214,Калькуляция!$H$17:$H$62),0) -> 0 | D214: =SUMIF('Расчет ФОТ'!$D$9:$D$210,B214,'Расчет ФОТ'!$J$9:$J$210) -> 0 | E214: =IF(D214>0,C214/D214,0) -> 0 | F214: =F213 -> #DIV/0! | G214: =SUM(E214:F214) -> #DIV/0!
