Workbook
Name сумм_аммортиз: Калькуляция!$D$74:$D$86
Name сумм_аммортиз: #REF!

Sheet Правила и справки
B1: Правила заполнения
A2: 1 | B2: Настоящая форма содержит вкладки - "Статистическая ЗП", "Калькуляция", "Расчет ФОТ" и «Приложение к договору» . Листы "Калькуляция" и "Расчет ФОТ" являются обязательными для заполнения в полном объеме.
A3: 2 | B3: Заполнению (редактированию) подлежат ячейки, отмеченные серым маркером. Остальные ячейки защищены от редактирования (в них не требуется вносить изменения и/или значения параметров в них рассчитываются автоматически).
A4: 3 | B4: Штатное расписание во вкладке "Расчет ФОТ" подлежит заполнению в зависимости от обслуживаемого объекта и необходимого графика работы
A5: 4 | B5: Сроки амортизации основных средств определяются каждым участником самостоятельно в соответствии с действующим законодательством РФ.
A6: 5 | B6: В настоящей форме Калькуляции все затраты необходимо указывать без учета НДС.
A7: 6 | B7: Компании, работающие на УСН (без НДС), считают затраты без учета налога на добавленную стоимость. Далее необходимо прибавлять сумму расчетного налога согласно внутренней системе упрощенного налогообложения.
A8: 7 | B8: В разделе «Амортизация ОС» не допускается указывать в основные средства с нулевой остаточной стоимостью. При формировании Калькуляции необходимо в обязательном порядке учитывать затраты на амортизацию каждого основного средства (исходя из ежемесячной амортизации нового основного средства).
A9: 8 | B9: В разделе «Инвентарь» не допускается указывать инвентарь б/у и/или инвентарь с нулевой стоимостью. В Калькуляцию каждого проекта необходимо закладывать приобретение нового инвентаря по действующим на момент расчета ценам поставщиков.
A10: 9 | B10: В разделе «Спецодежда» указанное количество комплектов спецодежды должно соответствовать планируемому количеству персонала и учитывать сезонность (зима/лето) и условия труда. Для контрактов продолжительностью более 1(одного) года необходимо учитывать ежегодное приобретение комплектов «летней» спецодежды для всех сотрудников, комплекты «зимней» спецодежды подлежат обновлению не реже, чем 1 раз в 2(два) года.
A11: 10 | B11: В разделе «Расходы на СОУТ (новый объект), по охране труда (ОТ) и промышленной безопасности (ПБ)» в обязательном порядке должны быть учтены соответствующие затраты на выполнение нормативов и требований в области охраны труда, пожарной и промышленной безопасности (в т.ч. медосмотры, медкнижки, освидетельствование рабочих мест, аттестации по электро- и пожарной безопасности и т.д.) по действующим на момент расчета расценкам поставщиков указанных услуг.
A12: 11 | B12: В разделе «Эксплуатация и ремонт оборудования» указываются затраты на ремонт и обслуживание основных средств, а также затраты на приобретение расходных материалов (щетки, скребки, резинки и др.). Данные затраты должны ежегодно составлять не менее 5% от стоимости основного средства.
B15: Справочная информация
A16: 1 | B16: Согласно производственному календарю в 2026 году 1972 максимально возможных рабочих часов (при 40- часовой рабочей неделе) по одному трудовому договору (без переработок), т.е. 164,3 часа среднемесячно. ТК РФ допускается работа по совместительству с продолжительностью рабочего времени, не превышающей половины месячной нормы рабочего времени, в 2026 году это 1972/2=986 часов. Таким образом, расчет максимально возможного количества рабочих часов в год по основному договору и договору совместительства выглядит следующим образом: 1972+0,5*1 972=2958 /12 месяцев=246,5 часов (среднемесячно). Согласно ТК РФ максимально возможное количество человеко-часов (3 078/ в год) можно установить графиком работы персоналу 6/1-10 часов, это основной договор плюс договор совместительства. В случае установки графика работы, при котором количество человеко- часов по каждой специальности и каждому сотруднику превышает 3 078 часов в год, ячейка с итоговым количеством человеко- часов (столбец J вкладки "Расчет ФОТ") окрашивается в красный цвет, если не превышает- в зеленый.
A17: 2 | B17: Заработная плата за 1 час устанавливается в размере не менее определенного по формуле (далее – Минимальная расчетная заработная плата за 1 час): 80% от среднего уровня заработной платы по отрасли в регионе оказания услуг, определенной в соответствии с данными, опубликованными Федеральной службой государственной статистики на официальном сайте Единой межведомственной информационно-статистической системы (далее – ЕМИСС)/246 (далее – Средний уровень заработной платы за час), где 246 – это максимально возможное количество рабочих часов среднемесячно по трудовому договору и договору совместительства на 1 человека в соответствии с ТК РФ. При этом максимальное количество отработанных сотрудником часов среднемесячно не должно превышать 246 рабочих часов Для целей расчета среднего уровня заработной платы по отрасли принимаются данные о среднемесячной начисленной заработной плате работников организаций, соответствующих отраслевому виду экономической деятельности по ОКВЭД-2 (группа 81.2 «Деятельность по чистке и уборке»), за последний период (год,квартал), опубликованный на официальном сайте ЕМИСС, на момент составления расчета. В случае, если определенная таким образом минимальная расчетная заработная плата за 1 час работы окажется ниже уровня заработной платы, рассчитанного по формуле: МРОТ (минимальный размер заработной платы, установленной в субъекте РФ)/164 рабочих часа (далее Минимальный размер заработной платы за час), где 164 – это количество рабочих часов в месяц для 40 часовой рабочей недели, согласно производственному календарю, Минимальная расчетная заработная плата за 1 час принимается Исполнителем равной Минимальному размеру заработной платы за час (МРОТ/164). Процент отклонения отображается в столбце АА "Расчет ФОТ", подсвечивается зеленым в случае соответствия, красным в случае несоответствия требуемому критерию.
A18: 3 | B18: Расчет заработной платы в час во вкладке "Статистическая ЗП" производится из максимально возможных согласно ТК РФ 246 часов среднемесячно при работе сотрудника по основному договору и договору совместительства, формула расчета представлена в п.1
A19: 4 | B19: Количество дней отпуска рассчитывается исходя из 28 календарных дней. Дополнительно учитывается отпуск, установленный законодательством для районов Крайнего Севера и приравненных к ним (8,16 или 24 календарных дня), а также отпуск, который может быть установлен по результатам специальной оценки условий труда (СОУТ).
A20: 5 | B20: Оплата праздничных дней производится в двойном размере.
A21: 6 | B21: Размер оплачиваемого работодателем больничного листа в расчете учитывается для каждого сотрудника в размере не менее стоимости 3 (трёх) рабочих дней ежегодно.
A22: 7 | B22: Размер страховых взносов для граждан РФ и иностранных граждан составляет 30%, без учета страховых взносов от несчастных случаев, которые закладываются согласно таблице производственных рисков (от 0,2 до 8,5%). Применительно к клинингу страховые взносы в ФСС по несчастным случаям в среднем равны 0,5%.
A23: 8 | B23: Вкладка "Приложение к договору", в которой указываются расчетная стоимость услуги с разбивкой на статьи затрат и расчетная стоимость трудового ресурса, заполняется автоматически при заполнении вкладок "Калькуляция" и "Расчет ФОТ".

Sheet Статистическая ЗП
B1: Данные ЕМИСС за январь - май 2026 г. по коду ОКВЭД2 81.2 Услуги по чистке и уборке* | L1: МРОТ (на 01.08.2026)* | R1: Значение для сравнения в час, включая страховые взносы, отпускные и больничные | W1: Значение для сравнения (справочно), включая отпускные и больничные (без страховых взносов)
B2: Код субъекта РФ | C2: Регион РФ | D2: Среднемесячно | E2: ЕМИСС минус 20% | G2: ЕМИСС среднемесячно минус 20% в час, включая страховые взносы | L2: в месяц | M2: в час | N2: в час, включая отпускные, больничные, страховые взносы | O2: в месяц, включая отпускные и больничные (без страховых взносов) | P2: в час, включая отпускные и больничные (без страховых взносов) | R2: не МСП | S2: МСП | W2: в месяц | X2: в час | AC2: 0.05 | AD2: =AC2/AE2 -> 0.052631579 | AE2: =100%-AC2 -> 0.95
AC3: 0.07 | AD3: =AC3/AE3 -> 0.075268817 | AE3: =100%-AC3 -> 0.93
E4: среднемесячно | F4: в час | G4: не МСП | H4: МСП | AC4: 0.22 | AD4: =AC4/AE4 -> 0.28205128 | AE4: =100%-AC4 -> 0.78
A5: 1 | B5: 01 | C5: Республика Адыгея | D5: 48625.1 | E5: =D5*0.8 -> 38900.08 | F5: =E5/246 -> 158.13041 | G5: =F5*1.305 -> 206.36018 | H5: =IF(F5>$M$5,$M$5*1.305+(F5-$M$5)*1.155,F5*1.305) -> 206.36018 | K5: =CONCATENATE(B5," ",C5) -> 01 Республика Адыгея | L5: 27093 | M5: =L5/164 -> 165.20122 | N5: =((M5/29.3*28*100%/12)+M5)*1.305+M5*164*24/730*3/12/164 -> 234.11393 | O5: =($L5/29.3*28/12)+$L5+$L5*24/730*3/12 -> 29473.259 | P5: =($M5/29.3*28/12)+$M5+$M5*24/730*3/12 -> 179.71499 | R5: =IF(N5>G5,N5,G5) -> 234.11393 | S5: =IF(N5>H5,N5,H5) -> 234.11393 | U5: Бюджет/Здравоохранение | V5: МСП | W5: =IF(O5>E5,O5,E5) -> 38900.08 | X5: =IF(P5>F5,P5,F5) -> 179.71499
A6: 2 | B6: 02 | C6: Республика Башкортостан | D6: 47109.3 | E6: =D6*0.8 -> 37687.44 | F6: =E6/246 -> 153.20098 | G6: =F6*1.305 -> 199.92727 | H6: =IF(F6>$M$5,$M$5*1.305+(F6-$M$5)*1.155,F6*1.305) -> 199.92727 | K6: =CONCATENATE(B6," ",C6) -> 02 Республика Башкортостан | L6: 28697 | M6: =L6/164 -> 174.98171 | N6: =((M6/29.3*28*100%/12)+M6)*1.305+M6*164*24/730*3/12/164 -> 247.97429 | O6: =($L6/29.3*28/12)+$L6+$L6*24/730*3/12 -> 31218.179 | P6: =($M6/29.3*28/12)+$M6+$M6*24/730*3/12 -> 190.35475 | R6: =IF(N6>G6,N6,G6) -> 247.97429 | S6: =IF(N6>H6,N6,H6) -> 247.97429 | U6: Бюджет/Образование | V6: не МСП | W6: =IF(O6>E6,O6,E6) -> 37687.44 | X6: =IF(P6>F6,P6,F6) -> 190.35475
A7: 3 | B7: 03 | C7: Республика Бурятия | D7: 65418.6 | E7: =D7*0.8 -> 52334.88 | F7: =E7/246 -> 212.74341 | G7: =F7*1.305 -> 277.63016 | H7: =IF(F7>$M$5,$M$5*1.305+(F7-$M$5)*1.155,F7*1.305) -> 270.49883 | K7: =CONCATENATE(B7," ",C7) -> 03 Республика Бурятия | L7: 27093 | M7: =L7/164 -> 165.20122 | N7: =((M7/29.3*28*100%/12)+M7)*1.305+M7*164*24/730*3/12/164 -> 234.11393 | O7: =($L7/29.3*28/12)+$L7+$L7*24/730*3/12 -> 29473.259 | P7: =($M7/29.3*28/12)+$M7+$M7*24/730*3/12 -> 179.71499 | R7: =IF(N7>G7,N7,G7) -> 277.63016 | S7: =IF(N7>H7,N7,H7) -> 270.49883 | U7: Бюджет/ФОИВ | W7: =IF(O7>E7,O7,E7) -> 52334.88 | X7: =IF(P7>F7,P7,F7) -> 212.74341
A8: 4 | B8: 04 | C8: Республика Алтай | D8: 45606.6 | E8: =D8*0.8 -> 36485.28 | F8: =E8/246 -> 148.31415 | G8: =F8*1.305 -> 193.54996 | H8: =IF(F8>$M$5,$M$5*1.305+(F8-$M$5)*1.155,F8*1.305) -> 193.54996 | K8: =CONCATENATE(B8," ",C8) -> 04 Республика Алтай | L8: 27093 | M8: =L8/164 -> 165.20122 | N8: =((M8/29.3*28*100%/12)+M8)*1.305+M8*164*24/730*3/12/164 -> 234.11393 | O8: =($L8/29.3*28/12)+$L8+$L8*24/730*3/12 -> 29473.259 | P8: =($M8/29.3*28/12)+$M8+$M8*24/730*3/12 -> 179.71499 | R8: =IF(N8>G8,N8,G8) -> 234.11393 | S8: =IF(N8>H8,N8,H8) -> 234.11393 | U8: Бюджет/Силовые структуры | W8: =IF(O8>E8,O8,E8) -> 36485.28 | X8: =IF(P8>F8,P8,F8) -> 179.71499
A9: 5 | B9: 05 | C9: Республика Дагестан | D9: 41898.3 | E9: =D9*0.8 -> 33518.64 | F9: =E9/246 -> 136.25463 | G9: =F9*1.305 -> 177.8123 | H9: =IF(F9>$M$5,$M$5*1.305+(F9-$M$5)*1.155,F9*1.305) -> 177.8123 | K9: =CONCATENATE(B9," ",C9) -> 05 Республика Дагестан | L9: 27093 | M9: =L9/164 -> 165.20122 | N9: =((M9/29.3*28*100%/12)+M9)*1.305+M9*164*24/730*3/12/164 -> 234.11393 | O9: =($L9/29.3*28/12)+$L9+$L9*24/730*3/12 -> 29473.259 | P9: =($M9/29.3*28/12)+$M9+$M9*24/730*3/12 -> 179.71499 | R9: =IF(N9>G9,N9,G9) -> 234.11393 | S9: =IF(N9>H9,N9,H9) -> 234.11393 | U9: Бюджет/ЖД и Метрополитены | W9: =IF(O9>E9,O9,E9) -> 33518.64 | X9: =IF(P9>F9,P9,F9) -> 179.71499
A10: 6 | B10: 06 | C10: Республика Ингушетия | D10: 25131.9 | E10: =D10*0.8 -> 20105.52 | F10: =E10/246 -> 81.729756 | G10: =F10*1.305 -> 106.65733 | H10: =IF(F10>$M$5,$M$5*1.305+(F10-$M$5)*1.155,F10*1.305) -> 106.65733 | K10: =CONCATENATE(B10," ",C10) -> 06 Республика Ингушетия | L10: 27093 | M10: =L10/164 -> 165.20122 | N10: =((M10/29.3*28*100%/12)+M10)*1.305+M10*164*24/730*3/12/164 -> 234.11393 | O10: =($L10/29.3*28/12)+$L10+$L10*24/730*3/12 -> 29473.259 | P10: =($M10/29.3*28/12)+$M10+$M10*24/730*3/12 -> 179.71499 | R10: =IF(N10>G10,N10,G10) -> 234.11393 | S10: =IF(N10>H10,N10,H10) -> 234.11393 | U10: Бюджет/Прочие | W10: =IF(O10>E10,O10,E10) -> 29473.259 | X10: =IF(P10>F10,P10,F10) -> 179.71499
A11: 7 | B11: 07 | C11: Кабардино-Балкарская Республика | D11: 54234.4 | E11: =D11*0.8 -> 43387.52 | F11: =E11/246 -> 176.37203 | G11: =F11*1.305 -> 230.1655 | H11: =IF(F11>$M$5,$M$5*1.305+(F11-$M$5)*1.155,F11*1.305) -> 228.48988 | K11: =CONCATENATE(B11," ",C11) -> 07 Кабардино-Балкарская Республика | L11: 27093 | M11: =L11/164 -> 165.20122 | N11: =((M11/29.3*28*100%/12)+M11)*1.305+M11*164*24/730*3/12/164 -> 234.11393 | O11: =($L11/29.3*28/12)+$L11+$L11*24/730*3/12 -> 29473.259 | P11: =($M11/29.3*28/12)+$M11+$M11*24/730*3/12 -> 179.71499 | R11: =IF(N11>G11,N11,G11) -> 234.11393 | S11: =IF(N11>H11,N11,H11) -> 234.11393 | U11: Индустрия/Нефтегазовая промышленность | W11: =IF(O11>E11,O11,E11) -> 43387.52 | X11: =IF(P11>F11,P11,F11) -> 179.71499
A12: 8 | B12: 08 | C12: Республика Калмыкия | D12: 49582.9 | E12: =D12*0.8 -> 39666.32 | F12: =E12/246 -> 161.2452 | G12: =F12*1.305 -> 210.42499 | H12: =IF(F12>$M$5,$M$5*1.305+(F12-$M$5)*1.155,F12*1.305) -> 210.42499 | K12: =CONCATENATE(B12," ",C12) -> 08 Республика Калмыкия | L12: 27093 | M12: =L12/164 -> 165.20122 | N12: =((M12/29.3*28*100%/12)+M12)*1.305+M12*164*24/730*3/12/164 -> 234.11393 | O12: =($L12/29.3*28/12)+$L12+$L12*24/730*3/12 -> 29473.259 | P12: =($M12/29.3*28/12)+$M12+$M12*24/730*3/12 -> 179.71499 | R12: =IF(N12>G12,N12,G12) -> 234.11393 | S12: =IF(N12>H12,N12,H12) -> 234.11393 | U12: Индустрия/Машиностроение | W12: =IF(O12>E12,O12,E12) -> 39666.32 | X12: =IF(P12>F12,P12,F12) -> 179.71499
A13: 9 | B13: 09 | C13: Карачаево-Черкесская Республика | D13: 39505.1 | E13: =D13*0.8 -> 31604.08 | F13: =E13/246 -> 128.47187 | G13: =F13*1.305 -> 167.65579 | H13: =IF(F13>$M$5,$M$5*1.305+(F13-$M$5)*1.155,F13*1.305) -> 167.65579 | K13: =CONCATENATE(B13," ",C13) -> 09 Карачаево-Черкесская Республика | L13: 27093 | M13: =L13/164 -> 165.20122 | N13: =((M13/29.3*28*100%/12)+M13)*1.305+M13*164*24/730*3/12/164 -> 234.11393 | O13: =($L13/29.3*28/12)+$L13+$L13*24/730*3/12 -> 29473.259 | P13: =($M13/29.3*28/12)+$M13+$M13*24/730*3/12 -> 179.71499 | R13: =IF(N13>G13,N13,G13) -> 234.11393 | S13: =IF(N13>H13,N13,H13) -> 234.11393 | U13: Индустрия/Пищевая | W13: =IF(O13>E13,O13,E13) -> 31604.08 | X13: =IF(P13>F13,P13,F13) -> 179.71499
A14: 10 | B14: 10 | C14: Республика Карелия | D14: 91811.1 | E14: =D14*0.8 -> 73448.88 | F14: =E14/246 -> 298.57268 | G14: =F14*1.305 -> 389.63735 | H14: =IF(F14>$M$5,$M$5*1.305+(F14-$M$5)*1.155,F14*1.305) -> 369.63163 | K14: =CONCATENATE(B14," ",C14) -> 10 Республика Карелия | L14: 27093 | M14: =L14/164 -> 165.20122 | N14: =((M14/29.3*28*100%/12)+M14)*1.305+M14*164*24/730*3/12/164 -> 234.11393 | O14: =($L14/29.3*28/12)+$L14+$L14*24/730*3/12 -> 29473.259 | P14: =($M14/29.3*28/12)+$M14+$M14*24/730*3/12 -> 179.71499 | R14: =IF(N14>G14,N14,G14) -> 389.63735 | S14: =IF(N14>H14,N14,H14) -> 369.63163 | U14: Индустрия/Фармацевтическая | W14: =IF(O14>E14,O14,E14) -> 73448.88 | X14: =IF(P14>F14,P14,F14) -> 298.57268
A15: 11 | B15: 11 | C15: Республика Коми | D15: 58984.1 | E15: =D15*0.8 -> 47187.28 | F15: =E15/246 -> 191.81821 | G15: =F15*1.305 -> 250.32277 | H15: =IF(F15>$M$5,$M$5*1.305+(F15-$M$5)*1.155,F15*1.305) -> 246.33022 | K15: =CONCATENATE(B15," ",C15) -> 11 Республика Коми | L15: 27093 | M15: =L15/164 -> 165.20122 | N15: =((M15/29.3*28*100%/12)+M15)*1.305+M15*164*24/730*3/12/164 -> 234.11393 | O15: =($L15/29.3*28/12)+$L15+$L15*24/730*3/12 -> 29473.259 | P15: =($M15/29.3*28/12)+$M15+$M15*24/730*3/12 -> 179.71499 | R15: =IF(N15>G15,N15,G15) -> 250.32277 | S15: =IF(N15>H15,N15,H15) -> 246.33022 | U15: Индустрия/Уголь, руда, металл | W15: =IF(O15>E15,O15,E15) -> 47187.28 | X15: =IF(P15>F15,P15,F15) -> 191.81821
A16: 12 | B16: 12 | C16: Республика Марий Эл | D16: 64124.1 | E16: =D16*0.8 -> 51299.28 | F16: =E16/246 -> 208.53366 | G16: =F16*1.305 -> 272.13642 | H16: =IF(F16>$M$5,$M$5*1.305+(F16-$M$5)*1.155,F16*1.305) -> 265.63656 | K16: =CONCATENATE(B16," ",C16) -> 12 Республика Марий Эл | L16: 27093 | M16: =L16/164 -> 165.20122 | N16: =((M16/29.3*28*100%/12)+M16)*1.305+M16*164*24/730*3/12/164 -> 234.11393 | O16: =($L16/29.3*28/12)+$L16+$L16*24/730*3/12 -> 29473.259 | P16: =($M16/29.3*28/12)+$M16+$M16*24/730*3/12 -> 179.71499 | R16: =IF(N16>G16,N16,G16) -> 272.13642 | S16: =IF(N16>H16,N16,H16) -> 265.63656 | U16: Индустрия/Энергетика | W16: =IF(O16>E16,O16,E16) -> 51299.28 | X16: =IF(P16>F16,P16,F16) -> 208.53366
A17: 13 | B17: 13 | C17: Республика Мордовия | D17: 62089.6 | E17: =D17*0.8 -> 49671.68 | F17: =E17/246 -> 201.9174 | G17: =F17*1.305 -> 263.5022 | H17: =IF(F17>$M$5,$M$5*1.305+(F17-$M$5)*1.155,F17*1.305) -> 257.99478 | K17: =CONCATENATE(B17," ",C17) -> 13 Республика Мордовия | L17: 27093 | M17: =L17/164 -> 165.20122 | N17: =((M17/29.3*28*100%/12)+M17)*1.305+M17*164*24/730*3/12/164 -> 234.11393 | O17: =($L17/29.3*28/12)+$L17+$L17*24/730*3/12 -> 29473.259 | P17: =($M17/29.3*28/12)+$M17+$M17*24/730*3/12 -> 179.71499 | R17: =IF(N17>G17,N17,G17) -> 263.5022 | S17: =IF(N17>H17,N17,H17) -> 257.99478 | U17: Индустрия/ Прочая | W17: =IF(O17>E17,O17,E17) -> 49671.68 | X17: =IF(P17>F17,P17,F17) -> 201.9174
A18: 14 | B18: 14 | C18: Республика Саха (Якутия) | D18: 67049.4 | E18: =D18*0.8 -> 53639.52 | F18: =E18/246 -> 218.04683 | G18: =F18*1.305 -> 284.55111 | H18: =IF(F18>$M$5,$M$5*1.305+(F18-$M$5)*1.155,F18*1.305) -> 276.62427 | K18: =CONCATENATE(B18," ",C18) -> 14 Республика Саха (Якутия) | L18: 27093 | M18: =L18/164 -> 165.20122 | N18: =((M18/29.3*28*100%/12)+M18)*1.305+M18*164*24/730*3/12/164 -> 234.11393 | O18: =($L18/29.3*28/12)+$L18+$L18*24/730*3/12 -> 29473.259 | P18: =($M18/29.3*28/12)+$M18+$M18*24/730*3/12 -> 179.71499 | R18: =IF(N18>G18,N18,G18) -> 284.55111 | S18: =IF(N18>H18,N18,H18) -> 276.62427 | U18: Недвижимость/Аэропорты, стадионы и пр. | W18: =IF(O18>E18,O18,E18) -> 53639.52 | X18: =IF(P18>F18,P18,F18) -> 218.04683
A19: 15 | B19: 15 | C19: Республика Северная Осетия-Алания | D19: 33413.5 | E19: =D19*0.8 -> 26730.8 | F19: =E19/246 -> 108.66179 | G19: =F19*1.305 -> 141.80363 | H19: =IF(F19>$M$5,$M$5*1.305+(F19-$M$5)*1.155,F19*1.305) -> 141.80363 | K19: =CONCATENATE(B19," ",C19) -> 15 Республика Северная Осетия-Алания | L19: 27093 | M19: =L19/164 -> 165.20122 | N19: =((M19/29.3*28*100%/12)+M19)*1.305+M19*164*24/730*3/12/164 -> 234.11393 | O19: =($L19/29.3*28/12)+$L19+$L19*24/730*3/12 -> 29473.259 | P19: =($M19/29.3*28/12)+$M19+$M19*24/730*3/12 -> 179.71499 | R19: =IF(N19>G19,N19,G19) -> 234.11393 | S19: =IF(N19>H19,N19,H19) -> 234.11393 | U19: Недвижимость/Жилая | W19: =IF(O19>E19,O19,E19) -> 29473.259 | X19: =IF(P19>F19,P19,F19) -> 179.71499
A20: 16 | B20: 16 | C20: Республика Татарстан (Татарстан) | D20: 47594.8 | E20: =D20*0.8 -> 38075.84 | F20: =E20/246 -> 154.77984 | G20: =F20*1.305 -> 201.98769 | H20: =IF(F20>$M$5,$M$5*1.305+(F20-$M$5)*1.155,F20*1.305) -> 201.98769 | K20: =CONCATENATE(B20," ",C20) -> 16 Республика Татарстан (Татарстан) | L20: 28160 | M20: =L20/164 -> 171.70732 | N20: =((M20/29.3*28*100%/12)+M20)*1.305+M20*164*24/730*3/12/164 -> 243.33401 | O20: =($L20/29.3*28/12)+$L20+$L20*24/730*3/12 -> 30634 | P20: =($M20/29.3*28/12)+$M20+$M20*24/730*3/12 -> 186.79269 | R20: =IF(N20>G20,N20,G20) -> 243.33401 | S20: =IF(N20>H20,N20,H20) -> 243.33401 | U20: Недвижимость/Логистическая | W20: =IF(O20>E20,O20,E20) -> 38075.84 | X20: =IF(P20>F20,P20,F20) -> 186.79269
A21: 17 | B21: 17 | C21: Республика Тыва | D21: 66061.6 | E21: =D21*0.8 -> 52849.28 | F21: =E21/246 -> 214.83447 | G21: =F21*1.305 -> 280.35899 | H21: =IF(F21>$M$5,$M$5*1.305+(F21-$M$5)*1.155,F21*1.305) -> 272.914 | K21: =CONCATENATE(B21," ",C21) -> 17 Республика Тыва | L21: 27093 | M21: =L21/164 -> 165.20122 | N21: =((M21/29.3*28*100%/12)+M21)*1.305+M21*164*24/730*3/12/164 -> 234.11393 | O21: =($L21/29.3*28/12)+$L21+$L21*24/730*3/12 -> 29473.259 | P21: =($M21/29.3*28/12)+$M21+$M21*24/730*3/12 -> 179.71499 | R21: =IF(N21>G21,N21,G21) -> 280.35899 | S21: =IF(N21>H21,N21,H21) -> 272.914 | U21: Недвижимость/Офисная | W21: =IF(O21>E21,O21,E21) -> 52849.28 | X21: =IF(P21>F21,P21,F21) -> 214.83447
A22: 18 | B22: 18 | C22: Удмуртская Республика | D22: 52942.7 | E22: =D22*0.8 -> 42354.16 | F22: =E22/246 -> 172.17138 | G22: =F22*1.305 -> 224.68365 | H22: =IF(F22>$M$5,$M$5*1.305+(F22-$M$5)*1.155,F22*1.305) -> 223.63813 | K22: =CONCATENATE(B22," ",C22) -> 18 Удмуртская Республика | L22: 31157 | M22: =L22/164 -> 189.98171 | N22: =((M22/29.3*28*100%/12)+M22)*1.305+M22*164*24/730*3/12/164 -> 269.23145 | O22: =($L22/29.3*28/12)+$L22+$L22*24/730*3/12 -> 33894.302 | P22: =($M22/29.3*28/12)+$M22+$M22*24/730*3/12 -> 206.67257 | R22: =IF(N22>G22,N22,G22) -> 269.23145 | S22: =IF(N22>H22,N22,H22) -> 269.23145 | U22: Недвижимость/Торгово-развлекательная | W22: =IF(O22>E22,O22,E22) -> 42354.16 | X22: =IF(P22>F22,P22,F22) -> 206.67257
A23: 19 | B23: 19 | C23: Республика Хакасия | D23: 60759 | E23: =D23*0.8 -> 48607.2 | F23: =E23/246 -> 197.59024 | G23: =F23*1.305 -> 257.85527 | H23: =IF(F23>$M$5,$M$5*1.305+(F23-$M$5)*1.155,F23*1.305) -> 252.99691 | K23: =CONCATENATE(B23," ",C23) -> 19 Республика Хакасия | L23: 27093 | M23: =L23/164 -> 165.20122 | N23: =((M23/29.3*28*100%/12)+M23)*1.305+M23*164*24/730*3/12/164 -> 234.11393 | O23: =($L23/29.3*28/12)+$L23+$L23*24/730*3/12 -> 29473.259 | P23: =($M23/29.3*28/12)+$M23+$M23*24/730*3/12 -> 179.71499 | R23: =IF(N23>G23,N23,G23) -> 257.85527 | S23: =IF(N23>H23,N23,H23) -> 252.99691 | U23: Недвижимость/Прочая | W23: =IF(O23>E23,O23,E23) -> 48607.2 | X23: =IF(P23>F23,P23,F23) -> 197.59024
A24: 20 | B24: 20 | C24: Чеченская Республика | D24: 47143.1 | E24: =D24*0.8 -> 37714.48 | F24: =E24/246 -> 153.31089 | G24: =F24*1.305 -> 200.07072 | H24: =IF(F24>$M$5,$M$5*1.305+(F24-$M$5)*1.155,F24*1.305) -> 200.07072 | K24: =CONCATENATE(B24," ",C24) -> 20 Чеченская Республика | L24: 27093 | M24: =L24/164 -> 165.20122 | N24: =((M24/29.3*28*100%/12)+M24)*1.305+M24*164*24/730*3/12/164 -> 234.11393 | O24: =($L24/29.3*28/12)+$L24+$L24*24/730*3/12 -> 29473.259 | P24: =($M24/29.3*28/12)+$M24+$M24*24/730*3/12 -> 179.71499 | R24: =IF(N24>G24,N24,G24) -> 234.11393 | S24: =IF(N24>H24,N24,H24) -> 234.11393 | U24: Cети/Nonfood | W24: =IF(O24>E24,O24,E24) -> 37714.48 | X24: =IF(P24>F24,P24,F24) -> 179.71499
A25: 21 | B25: 21 | C25: Чувашская Республика - Чувашия | D25: 49363.6 | E25: =D25*0.8 -> 39490.88 | F25: =E25/246 -> 160.53203 | G25: =F25*1.305 -> 209.4943 | H25: =IF(F25>$M$5,$M$5*1.305+(F25-$M$5)*1.155,F25*1.305) -> 209.4943 | K25: =CONCATENATE(B25," ",C25) -> 21 Чувашская Республика - Чувашия | L25: 27093 | M25: =L25/164 -> 165.20122 | N25: =((M25/29.3*28*100%/12)+M25)*1.305+M25*164*24/730*3/12/164 -> 234.11393 | O25: =($L25/29.3*28/12)+$L25+$L25*24/730*3/12 -> 29473.259 | P25: =($M25/29.3*28/12)+$M25+$M25*24/730*3/12 -> 179.71499 | R25: =IF(N25>G25,N25,G25) -> 234.11393 | S25: =IF(N25>H25,N25,H25) -> 234.11393 | U25: Сети/Магазины у дома | W25: =IF(O25>E25,O25,E25) -> 39490.88 | X25: =IF(P25>F25,P25,F25) -> 179.71499
A26: 22 | B26: 22 | C26: Алтайский край | D26: 41467.5 | E26: =D26*0.8 -> 33174 | F26: =E26/246 -> 134.85366 | G26: =F26*1.305 -> 175.98402 | H26: =IF(F26>$M$5,$M$5*1.305+(F26-$M$5)*1.155,F26*1.305) -> 175.98402 | K26: =CONCATENATE(B26," ",C26) -> 22 Алтайский край | L26: 28475 | M26: =L26/164 -> 173.62805 | N26: =((M26/29.3*28*100%/12)+M26)*1.305+M26*164*24/730*3/12/164 -> 246.05596 | O26: =($L26/29.3*28/12)+$L26+$L26*24/730*3/12 -> 30976.675 | P26: =($M26/29.3*28/12)+$M26+$M26*24/730*3/12 -> 188.88216 | R26: =IF(N26>G26,N26,G26) -> 246.05596 | S26: =IF(N26>H26,N26,H26) -> 246.05596 | U26: Сети/Супермаркеты | W26: =IF(O26>E26,O26,E26) -> 33174 | X26: =IF(P26>F26,P26,F26) -> 188.88216
A27: 23 | B27: 23 | C27: Краснодарский край | D27: 55968.5 | E27: =D27*0.8 -> 44774.8 | F27: =E27/246 -> 182.01138 | G27: =F27*1.305 -> 237.52485 | H27: =IF(F27>$M$5,$M$5*1.305+(F27-$M$5)*1.155,F27*1.305) -> 235.00333 | K27: =CONCATENATE(B27," ",C27) -> 23 Краснодарский край | L27: 28448 | M27: =L27/164 -> 173.46341 | N27: =((M27/29.3*28*100%/12)+M27)*1.305+M27*164*24/730*3/12/164 -> 245.82265 | O27: =($L27/29.3*28/12)+$L27+$L27*24/730*3/12 -> 30947.303 | P27: =($M27/29.3*28/12)+$M27+$M27*24/730*3/12 -> 188.70307 | R27: =IF(N27>G27,N27,G27) -> 245.82265 | S27: =IF(N27>H27,N27,H27) -> 245.82265 | U27: Сети/Гипермаркеты | W27: =IF(O27>E27,O27,E27) -> 44774.8 | X27: =IF(P27>F27,P27,F27) -> 188.70307
A28: 24 | B28: 24 | C28: Красноярский край | D28: 80090 | E28: =D28*0.8 -> 64072 | F28: =E28/246 -> 260.45528 | G28: =F28*1.305 -> 339.89415 | H28: =IF(F28>$M$5,$M$5*1.305+(F28-$M$5)*1.155,F28*1.305) -> 325.60604 | K28: =CONCATENATE(B28," ",C28) -> 24 Красноярский край | L28: 27093 | M28: =L28/164 -> 165.20122 | N28: =((M28/29.3*28*100%/12)+M28)*1.305+M28*164*24/730*3/12/164 -> 234.11393 | O28: =($L28/29.3*28/12)+$L28+$L28*24/730*3/12 -> 29473.259 | P28: =($M28/29.3*28/12)+$M28+$M28*24/730*3/12 -> 179.71499 | R28: =IF(N28>G28,N28,G28) -> 339.89415 | S28: =IF(N28>H28,N28,H28) -> 325.60604 | U28: Сети/Распределительные центры | W28: =IF(O28>E28,O28,E28) -> 64072 | X28: =IF(P28>F28,P28,F28) -> 260.45528
A29: 25 | B29: 25 | C29: Приморский край | D29: 74490.8 | E29: =D29*0.8 -> 59592.64 | F29: =E29/246 -> 242.2465 | G29: =F29*1.305 -> 316.13169 | H29: =IF(F29>$M$5,$M$5*1.305+(F29-$M$5)*1.155,F29*1.305) -> 304.5749 | K29: =CONCATENATE(B29," ",C29) -> 25 Приморский край | L29: 27093 | M29: =L29/164 -> 165.20122 | N29: =((M29/29.3*28*100%/12)+M29)*1.305+M29*164*24/730*3/12/164 -> 234.11393 | O29: =($L29/29.3*28/12)+$L29+$L29*24/730*3/12 -> 29473.259 | P29: =($M29/29.3*28/12)+$M29+$M29*24/730*3/12 -> 179.71499 | R29: =IF(N29>G29,N29,G29) -> 316.13169 | S29: =IF(N29>H29,N29,H29) -> 304.5749 | U29: Сети/Офисы | W29: =IF(O29>E29,O29,E29) -> 59592.64 | X29: =IF(P29>F29,P29,F29) -> 242.2465
A30: 26 | B30: 26 | C30: Ставропольский край | D30: 46560.6 | E30: =D30*0.8 -> 37248.48 | F30: =E30/246 -> 151.41659 | G30: =F30*1.305 -> 197.59864 | H30: =IF(F30>$M$5,$M$5*1.305+(F30-$M$5)*1.155,F30*1.305) -> 197.59864 | K30: =CONCATENATE(B30," ",C30) -> 26 Ставропольский край | L30: 27869 | M30: =L30/164 -> 169.93293 | N30: =((M30/29.3*28*100%/12)+M30)*1.305+M30*164*24/730*3/12/164 -> 240.81944 | O30: =($L30/29.3*28/12)+$L30+$L30*24/730*3/12 -> 30317.435 | P30: =($M30/29.3*28/12)+$M30+$M30*24/730*3/12 -> 184.86241 | R30: =IF(N30>G30,N30,G30) -> 240.81944 | S30: =IF(N30>H30,N30,H30) -> 240.81944 | U30: Прочее | W30: =IF(O30>E30,O30,E30) -> 37248.48 | X30: =IF(P30>F30,P30,F30) -> 184.86241
A31: 27 | B31: 27 | C31: Хабаровский край | D31: 66874.5 | E31: =D31*0.8 -> 53499.6 | F31: =E31/246 -> 217.47805 | G31: =F31*1.305 -> 283.80885 | H31: =IF(F31>$M$5,$M$5*1.305+(F31-$M$5)*1.155,F31*1.305) -> 275.96733 | K31: =CONCATENATE(B31," ",C31) -> 27 Хабаровский край | L31: 27093 | M31: =L31/164 -> 165.20122 | N31: =((M31/29.3*28*100%/12)+M31)*1.305+M31*164*24/730*3/12/164 -> 234.11393 | O31: =($L31/29.3*28/12)+$L31+$L31*24/730*3/12 -> 29473.259 | P31: =($M31/29.3*28/12)+$M31+$M31*24/730*3/12 -> 179.71499 | R31: =IF(N31>G31,N31,G31) -> 283.80885 | S31: =IF(N31>H31,N31,H31) -> 275.96733 | W31: =IF(O31>E31,O31,E31) -> 53499.6 | X31: =IF(P31>F31,P31,F31) -> 217.47805
A32: 28 | B32: 28 | C32: Амурская область | D32: 58467.4 | E32: =D32*0.8 -> 46773.92 | F32: =E32/246 -> 190.13789 | G32: =F32*1.305 -> 248.12994 | H32: =IF(F32>$M$5,$M$5*1.305+(F32-$M$5)*1.155,F32*1.305) -> 244.38944 | K32: =CONCATENATE(B32," ",C32) -> 28 Амурская область | L32: 27093 | M32: =L32/164 -> 165.20122 | N32: =((M32/29.3*28*100%/12)+M32)*1.305+M32*164*24/730*3/12/164 -> 234.11393 | O32: =($L32/29.3*28/12)+$L32+$L32*24/730*3/12 -> 29473.259 | P32: =($M32/29.3*28/12)+$M32+$M32*24/730*3/12 -> 179.71499 | R32: =IF(N32>G32,N32,G32) -> 248.12994 | S32: =IF(N32>H32,N32,H32) -> 244.38944 | W32: =IF(O32>E32,O32,E32) -> 46773.92 | X32: =IF(P32>F32,P32,F32) -> 190.13789
A33: 29 | B33: 29 | C33: Архангельская область | D33: 58119.9 | E33: =D33*0.8 -> 46495.92 | F33: =E33/246 -> 189.0078 | G33: =F33*1.305 -> 246.65519 | H33: =IF(F33>$M$5,$M$5*1.305+(F33-$M$5)*1.155,F33*1.305) -> 243.0842 | K33: =CONCATENATE(B33," ",C33) -> 29 Архангельская область | L33: 27093 | M33: =L33/164 -> 165.20122 | N33: =((M33/29.3*28*100%/12)+M33)*1.305+M33*164*24/730*3/12/164 -> 234.11393 | O33: =($L33/29.3*28/12)+$L33+$L33*24/730*3/12 -> 29473.259 | P33: =($M33/29.3*28/12)+$M33+$M33*24/730*3/12 -> 179.71499 | R33: =IF(N33>G33,N33,G33) -> 246.65519 | S33: =IF(N33>H33,N33,H33) -> 243.0842 | W33: =IF(O33>E33,O33,E33) -> 46495.92 | X33: =IF(P33>F33,P33,F33) -> 189.0078
A34: 30 | B34: 30 | C34: Астраханская область | D34: 42532.7 | E34: =D34*0.8 -> 34026.16 | F34: =E34/246 -> 138.31772 | G34: =F34*1.305 -> 180.50463 | H34: =IF(F34>$M$5,$M$5*1.305+(F34-$M$5)*1.155,F34*1.305) -> 180.50463 | K34: =CONCATENATE(B34," ",C34) -> 30 Астраханская область | L34: 27093 | M34: =L34/164 -> 165.20122 | N34: =((M34/29.3*28*100%/12)+M34)*1.305+M34*164*24/730*3/12/164 -> 234.11393 | O34: =($L34/29.3*28/12)+$L34+$L34*24/730*3/12 -> 29473.259 | P34: =($M34/29.3*28/12)+$M34+$M34*24/730*3/12 -> 179.71499 | R34: =IF(N34>G34,N34,G34) -> 234.11393 | S34: =IF(N34>H34,N34,H34) -> 234.11393 | W34: =IF(O34>E34,O34,E34) -> 34026.16 | X34: =IF(P34>F34,P34,F34) -> 179.71499
A35: 31 | B35: 31 | C35: Белгородская область | D35: 51304.3 | E35: =D35*0.8 -> 41043.44 | F35: =E35/246 -> 166.84325 | G35: =F35*1.305 -> 217.73044 | H35: =IF(F35>$M$5,$M$5*1.305+(F35-$M$5)*1.155,F35*1.305) -> 217.48414 | K35: =CONCATENATE(B35," ",C35) -> 31 Белгородская область | L35: 27093 | M35: =L35/164 -> 165.20122 | N35: =((M35/29.3*28*100%/12)+M35)*1.305+M35*164*24/730*3/12/164 -> 234.11393 | O35: =($L35/29.3*28/12)+$L35+$L35*24/730*3/12 -> 29473.259 | P35: =($M35/29.3*28/12)+$M35+$M35*24/730*3/12 -> 179.71499 | R35: =IF(N35>G35,N35,G35) -> 234.11393 | S35: =IF(N35>H35,N35,H35) -> 234.11393 | W35: =IF(O35>E35,O35,E35) -> 41043.44 | X35: =IF(P35>F35,P35,F35) -> 179.71499
A36: 32 | B36: 32 | C36: Брянская область | D36: 47075.8 | E36: =D36*0.8 -> 37660.64 | F36: =E36/246 -> 153.09203 | G36: =F36*1.305 -> 199.7851 | H36: =IF(F36>$M$5,$M$5*1.305+(F36-$M$5)*1.155,F36*1.305) -> 199.7851 | K36: =CONCATENATE(B36," ",C36) -> 32 Брянская область | L36: 27093 | M36: =L36/164 -> 165.20122 | N36: =((M36/29.3*28*100%/12)+M36)*1.305+M36*164*24/730*3/12/164 -> 234.11393 | O36: =($L36/29.3*28/12)+$L36+$L36*24/730*3/12 -> 29473.259 | P36: =($M36/29.3*28/12)+$M36+$M36*24/730*3/12 -> 179.71499 | R36: =IF(N36>G36,N36,G36) -> 234.11393 | S36: =IF(N36>H36,N36,H36) -> 234.11393 | W36: =IF(O36>E36,O36,E36) -> 37660.64 | X36: =IF(P36>F36,P36,F36) -> 179.71499
A37: 33 | B37: 33 | C37: Владимирская область | D37: 51448.7 | E37: =D37*0.8 -> 41158.96 | F37: =E37/246 -> 167.31285 | G37: =F37*1.305 -> 218.34326 | H37: =IF(F37>$M$5,$M$5*1.305+(F37-$M$5)*1.155,F37*1.305) -> 218.02652 | K37: =CONCATENATE(B37," ",C37) -> 33 Владимирская область | L37: 27093 | M37: =L37/164 -> 165.20122 | N37: =((M37/29.3*28*100%/12)+M37)*1.305+M37*164*24/730*3/12/164 -> 234.11393 | O37: =($L37/29.3*28/12)+$L37+$L37*24/730*3/12 -> 29473.259 | P37: =($M37/29.3*28/12)+$M37+$M37*24/730*3/12 -> 179.71499 | R37: =IF(N37>G37,N37,G37) -> 234.11393 | S37: =IF(N37>H37,N37,H37) -> 234.11393 | W37: =IF(O37>E37,O37,E37) -> 41158.96 | X37: =IF(P37>F37,P37,F37) -> 179.71499
A38: 34 | B38: 34 | C38: Волгоградская область | D38: 41600.5 | E38: =D38*0.8 -> 33280.4 | F38: =E38/246 -> 135.28618 | G38: =F38*1.305 -> 176.54846 | H38: =IF(F38>$M$5,$M$5*1.305+(F38-$M$5)*1.155,F38*1.305) -> 176.54846 | K38: =CONCATENATE(B38," ",C38) -> 34 Волгоградская область | L38: 29802 | M38: =L38/164 -> 181.71951 | N38: =((M38/29.3*28*100%/12)+M38)*1.305+M38*164*24/730*3/12/164 -> 257.52273 | O38: =($L38/29.3*28/12)+$L38+$L38*24/730*3/12 -> 32420.259 | P38: =($M38/29.3*28/12)+$M38+$M38*24/730*3/12 -> 197.6845 | R38: =IF(N38>G38,N38,G38) -> 257.52273 | S38: =IF(N38>H38,N38,H38) -> 257.52273 | W38: =IF(O38>E38,O38,E38) -> 33280.4 | X38: =IF(P38>F38,P38,F38) -> 197.6845
A39: 35 | B39: 35 | C39: Вологодская область | D39: 59773.1 | E39: =D39*0.8 -> 47818.48 | F39: =E39/246 -> 194.38407 | G39: =F39*1.305 -> 253.6712 | H39: =IF(F39>$M$5,$M$5*1.305+(F39-$M$5)*1.155,F39*1.305) -> 249.29378 | K39: =CONCATENATE(B39," ",C39) -> 35 Вологодская область | L39: 27093 | M39: =L39/164 -> 165.20122 | N39: =((M39/29.3*28*100%/12)+M39)*1.305+M39*164*24/730*3/12/164 -> 234.11393 | O39: =($L39/29.3*28/12)+$L39+$L39*24/730*3/12 -> 29473.259 | P39: =($M39/29.3*28/12)+$M39+$M39*24/730*3/12 -> 179.71499 | R39: =IF(N39>G39,N39,G39) -> 253.6712 | S39: =IF(N39>H39,N39,H39) -> 249.29378 | W39: =IF(O39>E39,O39,E39) -> 47818.48 | X39: =IF(P39>F39,P39,F39) -> 194.38407
A40: 36 | B40: 36 | C40: Воронежская область | D40: 71919.5 | E40: =D40*0.8 -> 57535.6 | F40: =E40/246 -> 233.88455 | G40: =F40*1.305 -> 305.21934 | H40: =IF(F40>$M$5,$M$5*1.305+(F40-$M$5)*1.155,F40*1.305) -> 294.91684 | K40: =CONCATENATE(B40," ",C40) -> 36 Воронежская область | L40: 27093 | M40: =L40/164 -> 165.20122 | N40: =((M40/29.3*28*100%/12)+M40)*1.305+M40*164*24/730*3/12/164 -> 234.11393 | O40: =($L40/29.3*28/12)+$L40+$L40*24/730*3/12 -> 29473.259 | P40: =($M40/29.3*28/12)+$M40+$M40*24/730*3/12 -> 179.71499 | R40: =IF(N40>G40,N40,G40) -> 305.21934 | S40: =IF(N40>H40,N40,H40) -> 294.91684 | W40: =IF(O40>E40,O40,E40) -> 57535.6 | X40: =IF(P40>F40,P40,F40) -> 233.88455
...

Sheet Калькуляция
B1: Наименование/ИНН подрядчика | C1: ООО "ПРИМЕР"
B2: Критерий коммерческого предприятия | C2: МСП
B3: Наименование/ИНН заказчика услуг, к которому относится объект
B4: Субъект РФ, в котором оказывается услуга | C4: 77 Город Москва
B5: Вид объекта | C5: Сети/Гипермаркеты
B6: Адрес объекта (индекс, город (населенный пункт), улица, дом (корпус, строение), офис | C6: г. Пример, ул. Пример, д. 8
B7: Площадь объекта (кв.м) | C7: 20000
B9: Калькуляция | D9: Срок контракта, мес. | E9: 12
B10: Наименование статьи затрат | F10: Итого выручка проекта среднемесячно, руб. | G10: Итого выручка проекта за весь период, руб. | H10: Доля в выручке без НДС, % | I10: Комментарии
B11: Расходы на оплату труда (см. лист "Расчет ФОТ") | F11: =SUM(F12,F13) -> 0 | G11: =SUM(G12,G13) -> 0 | H11: =IF($G$69=0,"",G11/$G$69)
B12: Зарплата, премии, компенсации, питание | F12: =G12/$E$9 -> 0 | G12: =SUM('Расчет ФОТ'!O7:S7)-'Расчет ФОТ'!T7 -> 0 | H12: =IF($G$69=0,"",G12/$G$69)
B13: Налоги на ФОТ | F13: =G13/$E$9 -> 0 | G13: =SUM(G14:G15) -> 0 | H13: =IF($G$69=0,"",G13/$G$69)
B14: НДФЛ | C14: 0.13 | F14: =G14/$E$9 -> 0 | G14: ='Расчет ФОТ'!T7 -> 0 | H14: =IF($G$69=0,"",G14/$G$69)
B15: Взнос в единый фонд пенсионного и социального страхования | C15: 0.305 | F15: =G15/$E$9 -> 0 | G15: ='Расчет ФОТ'!U7 -> 0 | H15: =IF($G$69=0,"",G15/$G$69)
B16: Расходные материалы | C16: Кол-во | D16: Цена покупки, руб. | F16: =SUM(F17:F20) -> 0 | G16: =SUM(G17:G20) -> 0 | H16: =IF($G$69=0,"",G16/$G$69)
B17: Расходные материалы (химия и РМ для уборки) | F17: =G17/$E$9 -> 0 | G17: =C17*D17 -> 0
B18: Расходные материалы (для уборки внешней территории) | F18: =G18/$E$9 -> 0 | G18: =C18*D18 -> 0
B19: Расходные материалы (прочие) | F19: =G19/$E$9 -> 0 | G19: =C19*D19 -> 0
B20: Расходные материалы (РМ для сан.зон) | F20: =G20/$E$9 -> 0 | G20: =C20*D20 -> 0
B21: Инвентарь | C21: Кол-во | D21: Цена покупки, руб. | F21: =SUM(F22:F29) -> 0 | G21: =SUM(G22:G29) -> 0 | H21: =IF($G$69=0,"",G21/$G$69)
B22: Инвентарь 1 | F22: =G22/$E$9 -> 0 | G22: =C22*D22 -> 0
B23: Инвентарь 2 | F23: =G23/$E$9 -> 0 | G23: =C23*D23 -> 0
B24: Инвентарь 3 | F24: =G24/$E$9 -> 0 | G24: =C24*D24 -> 0
B25: Инвентарь 4 | F25: =G25/$E$9 -> 0 | G25: =C25*D25 -> 0
B26: Инвентарь 5 | F26: =G26/$E$9 -> 0 | G26: =C26*D26 -> 0
B27: Инвентарь 6 | F27: =G27/$E$9 -> 0 | G27: =C27*D27 -> 0
B28: Инвентарь 7 | F28: =G28/$E$9 -> 0 | G28: =C28*D28 -> 0
B29: Инвентарь 8 | F29: =G29/$E$9 -> 0 | G29: =C29*D29 -> 0
B30: Спецодежда | C30: Кол-во | D30: Цена покупки, руб. | F30: =SUM(F31:F38) -> 0 | G30: =SUM(G31:G38) -> 0 | H30: =IF($G$69=0,"",G30/$G$69)
B31: Спецодежда 1 | F31: =G31/$E$9 -> 0 | G31: =C31*D31 -> 0
B32: Спецодежда 2 | F32: =G32/$E$9 -> 0 | G32: =C32*D32 -> 0
B33: Спецодежда 3 | F33: =G33/$E$9 -> 0 | G33: =C33*D33 -> 0
B34: Спецодежда 4 | F34: =G34/$E$9 -> 0 | G34: =C34*D34 -> 0
B35: Спецодежда 5 | F35: =G35/$E$9 -> 0 | G35: =C35*D35 -> 0
B36: Спецодежда 6 | F36: =G36/$E$9 -> 0 | G36: =C36*D36 -> 0
B37: Спецодежда 7 | F37: =G37/$E$9 -> 0 | G37: =C37*D37 -> 0
B38: Спецодежда 8 | F38: =G38/$E$9 -> 0 | G38: =C38*D38 -> 0
B39: Амортизация ОС | F39: =SUM(F41:F47) -> 0 | G39: =SUM(G41:G47) -> 0 | H39: =IF($G$69=0,"",G39/$G$69)
C40: Кол-во | D40: Цена покупки, руб. | E40: Срок амортизации (максимальный)
B41: Электрооборудование крупное - поломоечные машины различного типа (3 амортизационная группа) | E41: 60 | F41: =D41/E41*C41 -> 0 | G41: =F41*$E$9 -> 0
...

Sheet Расчет ФОТ
C2: Табелирование | J2: Заработная плата, руб. | P2: Надбавки и взносы с ФОТ, руб./период договора | V2: руб. за период договора | W2: руб. в месяц | X2: руб. в час | Y2: ЕМИСС -20% (не ниже МРОТ), руб. в час | Z2: % отклонения стоимости ч/ч от ЕМИСС в час- 20% (не ниже МРОТ)
J3: Заработная плата 1 сотр. НЕТТО (на руки) | M3: Заработная плата всех сотрудников
C4: Кол- во, чел. | D4: График и время работы | E4: Гражданство | F4: Кол-во рабочих часов в смену | G4: Кол-во рабочих смен в месяц | H4: Кол-во месяцев | I4: Кол-во рабочих часов итого | J4: в месяц | K4: в смену | L4: в час. | M4: НЕТТО (на руки) в месяц | N4: НЕТТО (на руки) за период договора | O4: с НДФЛ (к начислению) за период договора | P4: Оплата праздничных дней | Q4: Оплата отпускных дней | R4: Оплата питания | S4: Оплата больничных дней (3 дня) | T4: НДФЛ | U4: Взнос в единый фонд пенсионного и социального страхования | V4: Итого ФОТ (с учетом районных коэффициентов, северных надбавок, праздничных, отпускных и больничных дней, НДФЛ и страховых взносов)
U5: 0.305
B6: Расходы на оплату труда | V6: =SUM(V9:V210) -> 0
B7: Зарплата, премии, компенсации | I7: =SUM(I9:I210) -> 0 | N7: =SUM(N9:N210) -> 0 | O7: =SUM(O9:O210) -> 0 | P7: =SUM(P9:P210) -> 0 | Q7: =SUM(Q9:Q210) -> 0 | R7: =SUM(R9:R210) -> 0 | S7: =SUM(S9:S210) -> 0 | T7: =SUM(T9:T211) -> 0 | U7: =SUM(U9:U211) -> 0
I9: =H9*G9*F9*C9 -> 0 | K9: =IF(G9>0,J9/G9,) -> 0 | L9: =IF(F9>0,K9/F9,) -> 0 | M9: =C9*J9 -> 0 | N9: =M9*H9 -> 0 | O9: =N9/0.87 -> 0 | Q9: =IF(I9>0,(O9+P9)/I9/29.3*28*100%/12*I9,0) -> 0 | S9: =SUM(O9:R9)*2/730*3 -> 0 | T9: =SUM(O9:S9)*13% -> 0 | U9: =IF(O9>0,SUM('Расчет ФОТ'!O9:R9)*'Расчет ФОТ'!$U$5,0) -> 0 | V9: =SUM(O9:S9,U9:U9) -> 0 | W9: =IF(H9>0,V9/H9,0) -> 0 | X9: =IF(I9>0,V9/I9,) -> 0 | Y9: =IF(X9>0,IF(Калькуляция!$C$2='Статистическая ЗП'!$V$5,VLOOKUP(Калькуляция!$C$4,'Статистическая ЗП'!$K$5:$S$93,9,FALSE),VLOOKUP(Калькуляция!$C$4,'Статистическая ЗП'!$K$5:$S$93,8,FALSE)),"") | Z9: =IF(X9>0,(X9-Y9)/Y9,"") | AD9: =(3121)/12*H9*C9 -> 0
I10: =H10*G10*F10*C10 -> 0 | K10: =IF(G10>0,J10/G10,) -> 0 | L10: =IF(F10>0,K10/F10,) -> 0 | M10: =C10*J10 -> 0 | N10: =M10*H10 -> 0 | O10: =N10/0.87 -> 0 | P10: =IF(K10>0,K10/0.87*14/30*G10/12*H10*C10,) -> 0 | Q10: =IF(I10>0,(O10+P10)/I10/29.3*28*100%/12*I10,0) -> 0 | S10: =SUM(O10:R10)*2/730*3 -> 0 | T10: =SUM(O10:S10)*13% -> 0 | U10: =IF(O10>0,SUM('Расчет ФОТ'!O10:R10)*'Расчет ФОТ'!$U$5,0) -> 0 | V10: =SUM(O10:S10,U10:U10) -> 0 | W10: =IF(H10>0,V10/H10,0) -> 0 | X10: =IF(I10>0,V10/I10,) -> 0 | Y10: =IF(X10>0,IF(Калькуляция!$C$2='Статистическая ЗП'!$V$5,VLOOKUP(Калькуляция!$C$4,'Статистическая ЗП'!$K$5:$S$93,9,FALSE),VLOOKUP(Калькуляция!$C$4,'Статистическая ЗП'!$K$5:$S$93,8,FALSE)),"") | Z10: =IF(X10>0,(X10-Y10)/Y10,"") | AD10: =(3121)/12*H10*C10 -> 0
I11: =H11*G11*F11*C11 -> 0 | K11: =IF(G11>0,J11/G11,) -> 0 | L11: =IF(F11>0,K11/F11,) -> 0 | M11: =C11*J11 -> 0 | N11: =M11*H11 -> 0 | O11: =N11/0.87 -> 0 | P11: =IF(K11>0,K11/0.87*14/30*G11/12*H11*C11,) -> 0 | Q11: =IF(I11>0,(O11+P11)/I11/29.3*28*100%/12*I11,0) -> 0 | S11: =SUM(O11:R11)*2/730*3 -> 0 | T11: =SUM(O11:S11)*13% -> 0 | U11: =IF(O11>0,SUM('Расчет ФОТ'!O11:R11)*'Расчет ФОТ'!$U$5,0) -> 0 | V11: =SUM(O11:S11,U11:U11) -> 0 | W11: =IF(H11>0,V11/H11,0) -> 0 | X11: =IF(I11>0,V11/I11,) -> 0 | Y11: =IF(X11>0,IF(Калькуляция!$C$2='Статистическая ЗП'!$V$5,VLOOKUP(Калькуляция!$C$4,'Статистическая ЗП'!$K$5:$S$93,9,FALSE),VLOOKUP(Калькуляция!$C$4,'Статистическая ЗП'!$K$5:$S$93,8,FALSE)),"") | Z11: =IF(X11>0,(X11-Y11)/Y11,"") | AD11: =(3121)/12*H11*C11 -> 0
I12: =H12*G12*F12*C12 -> 0 | K12: =IF(G12>0,J12/G12,) -> 0 | L12: =IF(F12>0,K12/F12,) -> 0 | M12: =C12*J12 -> 0 | N12: =M12*H12 -> 0 | O12: =N12/0.87 -> 0 | P12: =IF(K12>0,K12/0.87*14/30*G12/12*H12*C12,) -> 0 | Q12: =IF(I12>0,(O12+P12)/I12/29.3*28*100%/12*I12,0) -> 0 | S12: =SUM(O12:R12)*2/730*3 -> 0 | T12: =SUM(O12:S12)*13% -> 0 | U12: =IF(O12>0,SUM('Расчет ФОТ'!O12:R12)*'Расчет ФОТ'!$U$5,0) -> 0 | V12: =SUM(O12:S12,U12:U12) -> 0 | W12: =IF(H12>0,V12/H12,0) -> 0 | X12: =IF(I12>0,V12/I12,) -> 0 | Y12: =IF(X12>0,IF(Калькуляция!$C$2='Статистическая ЗП'!$V$5,VLOOKUP(Калькуляция!$C$4,'Статистическая ЗП'!$K$5:$S$93,9,FALSE),VLOOKUP(Калькуляция!$C$4,'Статистическая ЗП'!$K$5:$S$93,8,FALSE)),"") | Z12: =IF(X12>0,(X12-Y12)/Y12,"") | AD12: =(3121)/12*H12*C12 -> 0
I13: =H13*G13*F13*C13 -> 0 | K13: =IF(G13>0,J13/G13,) -> 0 | L13: =IF(F13>0,K13/F13,) -> 0 | M13: =C13*J13 -> 0 | N13: =M13*H13 -> 0 | O13: =N13/0.87 -> 0 | P13: =IF(K13>0,K13/0.87*14/30*G13/12*H13*C13,) -> 0 | Q13: =IF(H13>0,(O13+P13)/H13/29.3*28*100%/12*H13,0) -> 0 | S13: =SUM(O13:R13)*2/730*3 -> 0 | T13: =SUM(O13:S13)*13% -> 0 | U13: =IF(O13>0,SUM('Расчет ФОТ'!O13:R13)*'Расчет ФОТ'!$U$5,0) -> 0 | V13: =SUM(O13:S13,U13:U13) -> 0 | W13: =IF(H13>0,V13/H13,0) -> 0 | X13: =IF(I13>0,V13/I13,) -> 0 | Y13: =IF(X13>0,IF(Калькуляция!$C$2='Статистическая ЗП'!$V$5,VLOOKUP(Калькуляция!$C$4,'Статистическая ЗП'!$K$5:$S$93,9,FALSE),VLOOKUP(Калькуляция!$C$4,'Статистическая ЗП'!$K$5:$S$93,8,FALSE)),"") | Z13: =IF(X13>0,(X13-Y13)/Y13,"") | AD13: =(3121)/12*H13*C13 -> 0
I14: =H14*G14*F14*C14 -> 0 | K14: =IF(G14>0,J14/G14,) -> 0 | L14: =IF(F14>0,K14/F14,) -> 0 | M14: =C14*J14 -> 0 | N14: =M14*H14 -> 0 | O14: =N14/0.87 -> 0 | P14: =IF(K14>0,K14/0.87*14/30*G14/12*H14*C14,) -> 0 | Q14: =IF(I14>0,(O14+P14)/I14/29.3*28*100%/12*I14,0) -> 0 | S14: =SUM(O14:R14)*2/730*3 -> 0 | T14: =SUM(O14:S14)*13% -> 0 | U14: =IF(O14>0,SUM('Расчет ФОТ'!O14:R14)*'Расчет ФОТ'!$U$5,0) -> 0 | V14: =SUM(O14:S14,U14:U14) -> 0 | W14: =IF(H14>0,V14/H14,0) -> 0 | X14: =IF(I14>0,V14/I14,) -> 0 | Y14: =IF(X14>0,IF(Калькуляция!$C$2='Статистическая ЗП'!$V$5,VLOOKUP(Калькуляция!$C$4,'Статистическая ЗП'!$K$5:$S$93,9,FALSE),VLOOKUP(Калькуляция!$C$4,'Статистическая ЗП'!$K$5:$S$93,8,FALSE)),"") | Z14: =IF(X14>0,(X14-Y14)/Y14,"") | AD14: =(3121)/12*H14*C14 -> 0
I15: =H15*G15*F15*C15 -> 0 | K15: =IF(G15>0,J15/G15,) -> 0 | L15: =IF(F15>0,K15/F15,) -> 0 | M15: =C15*J15 -> 0 | N15: =M15*H15 -> 0 | O15: =N15/0.87 -> 0 | P15: =IF(K15>0,K15/0.87*14/30*G15/12*H15*C15,) -> 0 | Q15: =IF(I15>0,(O15+P15)/I15/29.3*28*100%/12*I15,0) -> 0 | S15: =SUM(O15:R15)*2/730*3 -> 0 | T15: =SUM(O15:S15)*13% -> 0 | U15: =IF(O15>0,SUM('Расчет ФОТ'!O15:R15)*'Расчет ФОТ'!$U$5,0) -> 0 | V15: =SUM(O15:S15,U15:U15) -> 0 | W15: =IF(H15>0,V15/H15,0) -> 0 | X15: =IF(I15>0,V15/I15,) -> 0 | Y15: =IF(X15>0,IF(Калькуляция!$C$2='Статистическая ЗП'!$V$5,VLOOKUP(Калькуляция!$C$4,'Статистическая ЗП'!$K$5:$S$93,9,FALSE),VLOOKUP(Калькуляция!$C$4,'Статистическая ЗП'!$K$5:$S$93,8,FALSE)),"") | Z15: =IF(X15>0,(X15-Y15)/Y15,"") | AD15: =(3121)/12*H15*C15 -> 0
I16: =H16*G16*F16*C16 -> 0 | K16: =IF(G16>0,J16/G16,) -> 0 | L16: =IF(F16>0,K16/F16,) -> 0 | M16: =C16*J16 -> 0 | N16: =M16*H16 -> 0 | O16: =N16/0.87 -> 0 | P16: =IF(K16>0,K16/0.87*14/30*G16/12*H16*C16,) -> 0 | Q16: =IF(I16>0,(O16+P16)/I16/29.3*28*100%/12*I16,0) -> 0 | S16: =SUM(O16:R16)*2/730*3 -> 0 | T16: =SUM(O16:S16)*13% -> 0 | U16: =IF(O16>0,SUM('Расчет ФОТ'!O16:R16)*'Расчет ФОТ'!$U$5,0) -> 0 | V16: =SUM(O16:S16,U16:U16) -> 0 | W16: =IF(H16>0,V16/H16,0) -> 0 | X16: =IF(I16>0,V16/I16,) -> 0 | Y16: =IF(X16>0,IF(Калькуляция!$C$2='Статистическая ЗП'!$V$5,VLOOKUP(Калькуляция!$C$4,'Статистическая ЗП'!$K$5:$S$93,9,FALSE),VLOOKUP(Калькуляция!$C$4,'Статистическая ЗП'!$K$5:$S$93,8,FALSE)),"") | Z16: =IF(X16>0,(X16-Y16)/Y16,"") | AD16: =(3121)/12*H16*C16 -> 0
I17: =H17*G17*F17*C17 -> 0 | K17: =IF(G17>0,J17/G17,) -> 0 | L17: =IF(F17>0,K17/F17,) -> 0 | M17: =C17*J17 -> 0 | N17: =M17*H17 -> 0 | O17: =N17/0.87 -> 0 | P17: =IF(K17>0,K17/0.87*14/30*G17/12*H17*C17,) -> 0 | Q17: =IF(I17>0,(O17+P17)/I17/29.3*28*100%/12*I17,0) -> 0 | S17: =SUM(O17:R17)*2/730*3 -> 0 | T17: =SUM(O17:S17)*13% -> 0 | U17: =IF(O17>0,SUM('Расчет ФОТ'!O17:R17)*'Расчет ФОТ'!$U$5,0) -> 0 | V17: =SUM(O17:S17,U17:U17) -> 0 | W17: =IF(H17>0,V17/H17,0) -> 0 | X17: =IF(I17>0,V17/I17,) -> 0 | Y17: =IF(X17>0,IF(Калькуляция!$C$2='Статистическая ЗП'!$V$5,VLOOKUP(Калькуляция!$C$4,'Статистическая ЗП'!$K$5:$S$93,9,FALSE),VLOOKUP(Калькуляция!$C$4,'Статистическая ЗП'!$K$5:$S$93,8,FALSE)),"") | Z17: =IF(X17>0,(X17-Y17)/Y17,"") | AD17: =(3121)/12*H17*C17 -> 0
I18: =H18*G18*F18*C18 -> 0 | K18: =IF(G18>0,J18/G18,) -> 0 | L18: =IF(F18>0,K18/F18,) -> 0 | M18: =C18*J18 -> 0 | N18: =M18*H18 -> 0 | O18: =N18/0.87 -> 0 | P18: =IF(K18>0,K18/0.87*14/30*G18/12*H18*C18,) -> 0 | Q18: =IF(I18>0,(O18+P18)/I18/29.3*28*100%/12*I18,0) -> 0 | S18: =SUM(O18:R18)*2/730*3 -> 0 | T18: =SUM(O18:S18)*13% -> 0 | U18: =IF(O18>0,SUM('Расчет ФОТ'!O18:R18)*'Расчет ФОТ'!$U$5,0) -> 0 | V18: =SUM(O18:S18,U18:U18) -> 0 | W18: =IF(H18>0,V18/H18,0) -> 0 | X18: =IF(I18>0,V18/I18,) -> 0 | Y18: =IF(X18>0,IF(Калькуляция!$C$2='Статистическая ЗП'!$V$5,VLOOKUP(Калькуляция!$C$4,'Статистическая ЗП'!$K$5:$S$93,9,FALSE),VLOOKUP(Калькуляция!$C$4,'Статистическая ЗП'!$K$5:$S$93,8,FALSE)),"") | Z18: =IF(X18>0,(X18-Y18)/Y18,"") | AD18: =(3121)/12*H18*C18 -> 0
I19: =H19*G19*F19*C19 -> 0 | K19: =IF(G19>0,J19/G19,) -> 0 | L19: =IF(F19>0,K19/F19,) -> 0 | M19: =C19*J19 -> 0 | N19: =M19*H19 -> 0 | O19: =N19/0.87 -> 0 | P19: =IF(K19>0,K19/0.87*14/30*G19/12*H19*C19,) -> 0 | Q19: =IF(I19>0,(O19+P19)/I19/29.3*28*100%/12*I19,0) -> 0 | S19: =SUM(O19:R19)*2/730*3 -> 0 | T19: =SUM(O19:S19)*13% -> 0 | U19: =IF(O19>0,SUM('Расчет ФОТ'!O19:R19)*'Расчет ФОТ'!$U$5,0) -> 0 | V19: =SUM(O19:S19,U19:U19) -> 0 | W19: =IF(H19>0,V19/H19,0) -> 0 | X19: =IF(I19>0,V19/I19,) -> 0 | Y19: =IF(X19>0,IF(Калькуляция!$C$2='Статистическая ЗП'!$V$5,VLOOKUP(Калькуляция!$C$4,'Статистическая ЗП'!$K$5:$S$93,9,FALSE),VLOOKUP(Калькуляция!$C$4,'Статистическая ЗП'!$K$5:$S$93,8,FALSE)),"") | Z19: =IF(X19>0,(X19-Y19)/Y19,"") | AD19: =(3121)/12*H19*C19 -> 0
I20: =H20*G20*F20*C20 -> 0 | K20: =IF(G20>0,J20/G20,) -> 0 | L20: =IF(F20>0,K20/F20,) -> 0 | M20: =C20*J20 -> 0 | N20: =M20*H20 -> 0 | O20: =N20/0.87 -> 0 | P20: =IF(K20>0,K20/0.87*14/30*G20/12*H20*C20,) -> 0 | Q20: =IF(I20>0,(O20+P20)/I20/29.3*28*100%/12*I20,0) -> 0 | S20: =SUM(O20:R20)*2/730*3 -> 0 | T20: =SUM(O20:S20)*13% -> 0 | U20: =IF(O20>0,SUM('Расчет ФОТ'!O20:R20)*'Расчет ФОТ'!$U$5,0) -> 0 | V20: =SUM(O20:S20,U20:U20) -> 0 | W20: =IF(H20>0,V20/H20,0) -> 0 | X20: =IF(I20>0,V20/I20,) -> 0 | Y20: =IF(X20>0,IF(Калькуляция!$C$2='Статистическая ЗП'!$V$5,VLOOKUP(Калькуляция!$C$4,'Статистическая ЗП'!$K$5:$S$93,9,FALSE),VLOOKUP(Калькуляция!$C$4,'Статистическая ЗП'!$K$5:$S$93,8,FALSE)),"") | Z20: =IF(X20>0,(X20-Y20)/Y20,"") | AD20: =(3121)/12*H20*C20 -> 0
I21: =H21*G21*F21*C21 -> 0 | K21: =IF(G21>0,J21/G21,) -> 0 | L21: =IF(F21>0,K21/F21,) -> 0 | M21: =C21*J21 -> 0 | N21: =M21*H21 -> 0 | O21: =N21/0.87 -> 0 | P21: =IF(K21>0,K21/0.87*14/30*G21/12*H21*C21,) -> 0 | Q21: =IF(I21>0,(O21+P21)/I21/29.3*28*100%/12*I21,0) -> 0 | S21: =SUM(O21:R21)*2/730*3 -> 0 | T21: =SUM(O21:S21)*13% -> 0 | U21: =IF(O21>0,SUM('Расчет ФОТ'!O21:R21)*'Расчет ФОТ'!$U$5,0) -> 0 | V21: =SUM(O21:S21,U21:U21) -> 0 | W21: =IF(H21>0,V21/H21,0) -> 0 | X21: =IF(I21>0,V21/I21,) -> 0 | Y21: =IF(X21>0,IF(Калькуляция!$C$2='Статистическая ЗП'!$V$5,VLOOKUP(Калькуляция!$C$4,'Статистическая ЗП'!$K$5:$S$93,9,FALSE),VLOOKUP(Калькуляция!$C$4,'Статистическая ЗП'!$K$5:$S$93,8,FALSE)),"") | Z21: =IF(X21>0,(X21-Y21)/Y21,"") | AD21: =(3121)/12*H21*C21 -> 0
I22: =H22*G22*F22*C22 -> 0 | K22: =IF(G22>0,J22/G22,) -> 0 | L22: =IF(F22>0,K22/F22,) -> 0 | M22: =C22*J22 -> 0 | N22: =M22*H22 -> 0 | O22: =N22/0.87 -> 0 | P22: =IF(K22>0,K22/0.87*14/30*G22/12*H22*C22,) -> 0 | Q22: =IF(I22>0,(O22+P22)/I22/29.3*28*100%/12*I22,0) -> 0 | S22: =SUM(O22:R22)*2/730*3 -> 0 | T22: =SUM(O22:S22)*13% -> 0 | U22: =IF(O22>0,SUM('Расчет ФОТ'!O22:R22)*'Расчет ФОТ'!$U$5,0) -> 0 | V22: =SUM(O22:S22,U22:U22) -> 0 | W22: =IF(H22>0,V22/H22,0) -> 0 | X22: =IF(I22>0,V22/I22,) -> 0 | Y22: =IF(X22>0,IF(Калькуляция!$C$2='Статистическая ЗП'!$V$5,VLOOKUP(Калькуляция!$C$4,'Статистическая ЗП'!$K$5:$S$93,9,FALSE),VLOOKUP(Калькуляция!$C$4,'Статистическая ЗП'!$K$5:$S$93,8,FALSE)),"") | Z22: =IF(X22>0,(X22-Y22)/Y22,"") | AD22: =(3121)/12*H22*C22 -> 0
I23: =H23*G23*F23*C23 -> 0 | K23: =IF(G23>0,J23/G23,) -> 0 | L23: =IF(F23>0,K23/F23,) -> 0 | M23: =C23*J23 -> 0 | N23: =M23*H23 -> 0 | O23: =N23/0.87 -> 0 | P23: =IF(K23>0,K23/0.87*14/30*G23/12*H23*C23,) -> 0 | Q23: =IF(I23>0,(O23+P23)/I23/29.3*28*100%/12*I23,0) -> 0 | S23: =SUM(O23:R23)*2/730*3 -> 0 | T23: =SUM(O23:S23)*13% -> 0 | U23: =IF(O23>0,SUM('Расчет ФОТ'!O23:R23)*'Расчет ФОТ'!$U$5,0) -> 0 | V23: =SUM(O23:S23,U23:U23) -> 0 | W23: =IF(H23>0,V23/H23,0) -> 0 | X23: =IF(I23>0,V23/I23,) -> 0 | Y23: =IF(X23>0,IF(Калькуляция!$C$2='Статистическая ЗП'!$V$5,VLOOKUP(Калькуляция!$C$4,'Статистическая ЗП'!$K$5:$S$93,9,FALSE),VLOOKUP(Калькуляция!$C$4,'Статистическая ЗП'!$K$5:$S$93,8,FALSE)),"") | Z23: =IF(X23>0,(X23-Y23)/Y23,"") | AD23: =(3121)/12*H23*C23 -> 0
I24: =H24*G24*F24*C24 -> 0 | K24: =IF(G24>0,J24/G24,) -> 0 | L24: =IF(F24>0,K24/F24,) -> 0 | M24: =C24*J24 -> 0 | N24: =M24*H24 -> 0 | O24: =N24/0.87 -> 0 | P24: =IF(K24>0,K24/0.87*14/30*G24/12*H24*C24,) -> 0 | Q24: =IF(I24>0,(O24+P24)/I24/29.3*28*100%/12*I24,0) -> 0 | S24: =SUM(O24:R24)*2/730*3 -> 0 | T24: =SUM(O24:S24)*13% -> 0 | U24: =IF(O24>0,SUM('Расчет ФОТ'!O24:R24)*'Расчет ФОТ'!$U$5,0) -> 0 | V24: =SUM(O24:S24,U24:U24) -> 0 | W24: =IF(H24>0,V24/H24,0) -> 0 | X24: =IF(I24>0,V24/I24,) -> 0 | Y24: =IF(X24>0,IF(Калькуляция!$C$2='Статистическая ЗП'!$V$5,VLOOKUP(Калькуляция!$C$4,'Статистическая ЗП'!$K$5:$S$93,9,FALSE),VLOOKUP(Калькуляция!$C$4,'Статистическая ЗП'!$K$5:$S$93,8,FALSE)),"") | Z24: =IF(X24>0,(X24-Y24)/Y24,"") | AD24: =(3121)/12*H24*C24 -> 0
I25: =H25*G25*F25*C25 -> 0 | K25: =IF(G25>0,J25/G25,) -> 0 | L25: =IF(F25>0,K25/F25,) -> 0 | M25: =C25*J25 -> 0 | N25: =M25*H25 -> 0 | O25: =N25/0.87 -> 0 | P25: =IF(K25>0,K25/0.87*14/30*G25/12*H25*C25,) -> 0 | Q25: =IF(I25>0,(O25+P25)/I25/29.3*28*100%/12*I25,0) -> 0 | S25: =SUM(O25:R25)*2/730*3 -> 0 | T25: =SUM(O25:S25)*13% -> 0 | U25: =IF(O25>0,SUM('Расчет ФОТ'!O25:R25)*'Расчет ФОТ'!$U$5,0) -> 0 | V25: =SUM(O25:S25,U25:U25) -> 0 | W25: =IF(H25>0,V25/H25,0) -> 0 | X25: =IF(I25>0,V25/I25,) -> 0 | Y25: =IF(X25>0,IF(Калькуляция!$C$2='Статистическая ЗП'!$V$5,VLOOKUP(Калькуляция!$C$4,'Статистическая ЗП'!$K$5:$S$93,9,FALSE),VLOOKUP(Калькуляция!$C$4,'Статистическая ЗП'!$K$5:$S$93,8,FALSE)),"") | Z25: =IF(X25>0,(X25-Y25)/Y25,"") | AD25: =(3121)/12*H25*C25 -> 0
... I210: =H210*G210*F210*C210 -> 0 | K210: =IF(G210>0,J210/G210,) -> 0 | L210: =IF(F210>0,K210/F210,) -> 0 | M210: =C210*J210 -> 0 | N210: =M210*H210 -> 0 | O210: =N210/0.87 -> 0 | P210: =IF(K210>0,K210/0.87*14/30*G210/12*H210*C210,) -> 0 | Q210: =IF(I210>0,(O210+P210)/I210/29.3*28*100%/12*I210,0) -> 0 | S210: =SUM(O210:R210)*2/730*3 -> 0 | T210: =SUM(O210:S210)*13% -> 0 | U210: =IF(O210>0,SUM('Расчет ФОТ'!O210:R210)*'Расчет ФОТ'!$U$5,0) -> 0 | V210: =SUM(O210:S210,U210:U210) -> 0 | W210: =IF(H210>0,V210/H210,0) -> 0 | X210: =IF(I210>0,V210/I210,) -> 0 | Y210: =IF(X210>0,IF(Калькуляция!$C$2='Статистическая ЗП'!$V$5,VLOOKUP(Калькуляция!$C$4,'Статистическая ЗП'!$K$5:$S$93,9,FALSE),VLOOKUP(Калькуляция!$C$4,'Статистическая ЗП'!$K$5:$S$93,8,FALSE)),"") | Z210: =IF(X210>0,(X210-Y210)/Y210,"") | AD210: =(3121)/12*H210*C210 -> 0
B218: РФ
B219: Иностранцы (патент)
B220: Иностранцы (ЕАЭС)

Sheet Приложение к договору
B2: =Калькуляция!B1 -> Наименование/ИНН подрядчика | E2: =Калькуляция!C1 -> ООО "ПРИМЕР"
B3: =Калькуляция!B6 -> Адрес объекта (индекс, город (населенный пункт), улица, дом (корпус, строение), офис | E3: =Калькуляция!C6 -> г. Пример, ул. Пример, д. 8
B5: Расчетная стоимость услуги
B7: Наименование статьи затрат | C7: Стоимость, руб./мес. | D7: **Стоимость, руб./период договора | E7: Доля в выручке без НДС, %
B8: ФОТ | C8: =Калькуляция!F12 -> 0 | D8: =Калькуляция!G12 -> 0 | E8: =Калькуляция!H12
B9: Налоги на ФОТ | C9: =Калькуляция!F13 -> 0 | D9: =Калькуляция!G13 -> 0 | E9: =Калькуляция!H13
B10: Расходные материалы | C10: =Калькуляция!F16 -> 0 | D10: =Калькуляция!G16 -> 0 | E10: =Калькуляция!H16
B11: Инвентарь | C11: =Калькуляция!F21 -> 0 | D11: =Калькуляция!G21 -> 0 | E11: =Калькуляция!H21
B12: Спецодежда | C12: =Калькуляция!F30 -> 0 | D12: =Калькуляция!G30 -> 0 | E12: =Калькуляция!H30
B13: Амортизация ОС | C13: =Калькуляция!F39 -> 0 | D13: =Калькуляция!G39 -> 0 | E13: =Калькуляция!H39
B14: Горюче-смазочные материалы (ГСМ) | C14: =Калькуляция!F48 -> 0 | D14: =Калькуляция!G48 -> 0 | E14: =Калькуляция!H48
B15: Подрядные работы | C15: =Калькуляция!F49 -> 0 | D15: =Калькуляция!G49 -> 0 | E15: =Калькуляция!H49
B16: Прочие расходы | C16: =SUM(Калькуляция!F55:F62) -> 0 | D16: =SUM(Калькуляция!G55:G62) -> 0 | E16: =IF(Калькуляция!G69=0,"",SUM(Калькуляция!H55:H62))
B17: Накладные расходы | C17: =Калькуляция!F64 -> 0 | D17: =Калькуляция!G64 -> 0 | E17: =Калькуляция!H64
B18: Стоимость заемных средств | C18: =Калькуляция!F65 -> 0 | D18: =Калькуляция!G65 -> 0 | E18: =Калькуляция!H65
B19: Вознаграждение | C19: =Калькуляция!F67 -> 0 | D19: =Калькуляция!G67 -> 0 | E19: =Калькуляция!H67
B20: Налог на прибыль (информационно) | C20: =Калькуляция!F68 -> 0 | D20: =Калькуляция!G68 -> 0
B21: Стоимость без НДС | C21: =Калькуляция!F69 -> 0 | D21: =Калькуляция!G69 -> 0
B22: НДС | C22: =Калькуляция!F70 -> 0 | D22: =Калькуляция!G70 -> 0
B23: Стоимость с НДС | C23: =Калькуляция!F71 -> 0 | D23: =Калькуляция!G71 -> 0
B25: **Стоимость услуги за период договора= стоимость нормо-часа Х количество часов за период договора
B28: Расчетная стоимость трудового ресурса
B30: Табелирование | E30: Заработная плата 1 сотр. НЕТТО (на руки), руб. | H30: Надбавки, НДФЛ и взносы с ФОТ, руб./период договора | I30: Итого ФОТ (с учетом районных коэффициентов, северных надбавок, праздничных, отпускных и больничных дней, НДФЛ и страховых взносов), руб./ период договора
B31: Должность | C31: Кол- во, чел. | D31: Кол-во часов | E31: в месяц | F31: в смену | G31: в час
B32: ='Расчет ФОТ'!B9 -> 0 | C32: ='Расчет ФОТ'!C9 -> 0 | D32: ='Расчет ФОТ'!I9 -> 0 | E32: ='Расчет ФОТ'!J9 -> 0 | F32: ='Расчет ФОТ'!K9 -> 0 | G32: ='Расчет ФОТ'!L9 -> 0 | H32: ='Расчет ФОТ'!V9-'Расчет ФОТ'!N9 -> 0 | I32: ='Расчет ФОТ'!V9 -> 0
B33: ='Расчет ФОТ'!B10 -> 0 | C33: ='Расчет ФОТ'!C10 -> 0 | D33: ='Расчет ФОТ'!I10 -> 0 | E33: ='Расчет ФОТ'!J10 -> 0 | F33: ='Расчет ФОТ'!K10 -> 0 | G33: ='Расчет ФОТ'!L10 -> 0 | H33: ='Расчет ФОТ'!V10-'Расчет ФОТ'!N10 -> 0 | I33: ='Расчет ФОТ'!V10 -> 0
B34: ='Расчет ФОТ'!B11 -> 0 | C34: ='Расчет ФОТ'!C11 -> 0 | D34: ='Расчет ФОТ'!I11 -> 0 | E34: ='Расчет ФОТ'!J11 -> 0 | F34: ='Расчет ФОТ'!K11 -> 0 | G34: ='Расчет ФОТ'!L11 -> 0 | H34: ='Расчет ФОТ'!V11-'Расчет ФОТ'!N11 -> 0 | I34: ='Расчет ФОТ'!V11 -> 0
B35: ='Расчет ФОТ'!B12 -> 0 | C35: ='Расчет ФОТ'!C12 -> 0 | D35: ='Расчет ФОТ'!I12 -> 0 | E35: ='Расчет ФОТ'!J12 -> 0 | F35: ='Расчет ФОТ'!K12 -> 0 | G35: ='Расчет ФОТ'!L12 -> 0 | H35: ='Расчет ФОТ'!V12-'Расчет ФОТ'!N12 -> 0 | I35: ='Расчет ФОТ'!V12 -> 0
B36: ='Расчет ФОТ'!B13 -> 0 | C36: ='Расчет ФОТ'!C13 -> 0 | D36: ='Расчет ФОТ'!I13 -> 0 | E36: ='Расчет ФОТ'!J13 -> 0 | F36: ='Расчет ФОТ'!K13 -> 0 | G36: ='Расчет ФОТ'!L13 -> 0 | H36: ='Расчет ФОТ'!V13-'Расчет ФОТ'!N13 -> 0 | I36: ='Расчет ФОТ'!V13 -> 0
B37: ='Расчет ФОТ'!B14 -> 0 | C37: ='Расчет ФОТ'!C14 -> 0 | D37: ='Расчет ФОТ'!I14 -> 0 | E37: ='Расчет ФОТ'!J14 -> 0 | F37: ='Расчет ФОТ'!K14 -> 0 | G37: ='Расчет ФОТ'!L14 -> 0 | H37: ='Расчет ФОТ'!V14-'Расчет ФОТ'!N14 -> 0 | I37: ='Расчет ФОТ'!V14 -> 0
B38: ='Расчет ФОТ'!B15 -> 0 | C38: ='Расчет ФОТ'!C15 -> 0 | D38: ='Расчет ФОТ'!I15 -> 0 | E38: ='Расчет ФОТ'!J15 -> 0 | F38: ='Расчет ФОТ'!K15 -> 0 | G38: ='Расчет ФОТ'!L15 -> 0 | H38: ='Расчет ФОТ'!V15-'Расчет ФОТ'!N15 -> 0 | I38: ='Расчет ФОТ'!V15 -> 0
B39: ='Расчет ФОТ'!B16 -> 0 | C39: ='Расчет ФОТ'!C16 -> 0 | D39: ='Расчет ФОТ'!I16 -> 0 | E39: ='Расчет ФОТ'!J16 -> 0 | F39: ='Расчет ФОТ'!K16 -> 0 | G39: ='Расчет ФОТ'!L16 -> 0 | H39: ='Расчет ФОТ'!V16-'Расчет ФОТ'!N16 -> 0 | I39: ='Расчет ФОТ'!V16 -> 0
B40: ='Расчет ФОТ'!B17 -> 0 | C40: ='Расчет ФОТ'!C17 -> 0 | D40: ='Расчет ФОТ'!I17 -> 0 | E40: ='Расчет ФОТ'!J17 -> 0 | F40: ='Расчет ФОТ'!K17 -> 0 | G40: ='Расчет ФОТ'!L17 -> 0 | H40: ='Расчет ФОТ'!V17-'Расчет ФОТ'!N17 -> 0 | I40: ='Расчет ФОТ'!V17 -> 0
B41: ='Расчет ФОТ'!B18 -> 0 | C41: ='Расчет ФОТ'!C18 -> 0 | D41: ='Расчет ФОТ'!I18 -> 0 | E41: ='Расчет ФОТ'!J18 -> 0 | F41: ='Расчет ФОТ'!K18 -> 0 | G41: ='Расчет ФОТ'!L18 -> 0 | H41: ='Расчет ФОТ'!V18-'Расчет ФОТ'!N18 -> 0 | I41: ='Расчет ФОТ'!V18 -> 0
B42: ='Расчет ФОТ'!B19 -> 0 | C42: ='Расчет ФОТ'!C19 -> 0 | D42: ='Расчет ФОТ'!I19 -> 0 | E42: ='Расчет ФОТ'!J19 -> 0 | F42: ='Расчет ФОТ'!K19 -> 0 | G42: ='Расчет ФОТ'!L19 -> 0 | H42: ='Расчет ФОТ'!V19-'Расчет ФОТ'!N19 -> 0 | I42: ='Расчет ФОТ'!V19 -> 0
B43: ='Расчет ФОТ'!B20 -> 0 | C43: ='Расчет ФОТ'!C20 -> 0 | D43: ='Расчет ФОТ'!I20 -> 0 | E43: ='Расчет ФОТ'!J20 -> 0 | F43: ='Расчет ФОТ'!K20 -> 0 | G43: ='Расчет ФОТ'!L20 -> 0 | H43: ='Расчет ФОТ'!V20-'Расчет ФОТ'!N20 -> 0 | I43: ='Расчет ФОТ'!V20 -> 0
... B233: ='Расчет ФОТ'!B210 -> 0 | C233: ='Расчет ФОТ'!C210 -> 0 | D233: ='Расчет ФОТ'!I210 -> 0 | E233: ='Расчет ФОТ'!J210 -> 0 | F233: ='Расчет ФОТ'!K210 -> 0 | G233: ='Расчет ФОТ'!L210 -> 0 | H233: ='Расчет ФОТ'!V210-'Расчет ФОТ'!N210 -> 0 | I233: ='Расчет ФОТ'!V210 -> 0
